BEGIN:VCALENDAR
VERSION:2.0
PRODID:-//The Messy Moose Kids Art Studio - ECPv6.15.20//NONSGML v1.0//EN
CALSCALE:GREGORIAN
METHOD:PUBLISH
X-WR-CALNAME:The Messy Moose Kids Art Studio
X-ORIGINAL-URL:https://messymoosestudio.com
X-WR-CALDESC:Events for The Messy Moose Kids Art Studio
REFRESH-INTERVAL;VALUE=DURATION:PT1H
X-Robots-Tag:noindex
X-PUBLISHED-TTL:PT1H
BEGIN:VTIMEZONE
TZID:America/Edmonton
BEGIN:DAYLIGHT
TZOFFSETFROM:-0700
TZOFFSETTO:-0600
TZNAME:MDT
DTSTART:20240310T090000
END:DAYLIGHT
BEGIN:STANDARD
TZOFFSETFROM:-0600
TZOFFSETTO:-0700
TZNAME:MST
DTSTART:20241103T080000
END:STANDARD
BEGIN:DAYLIGHT
TZOFFSETFROM:-0700
TZOFFSETTO:-0600
TZNAME:MDT
DTSTART:20250309T090000
END:DAYLIGHT
BEGIN:STANDARD
TZOFFSETFROM:-0600
TZOFFSETTO:-0700
TZNAME:MST
DTSTART:20251102T080000
END:STANDARD
BEGIN:DAYLIGHT
TZOFFSETFROM:-0700
TZOFFSETTO:-0600
TZNAME:MDT
DTSTART:20260308T090000
END:DAYLIGHT
BEGIN:STANDARD
TZOFFSETFROM:-0600
TZOFFSETTO:-0700
TZNAME:MST
DTSTART:20261101T080000
END:STANDARD
END:VTIMEZONE
BEGIN:VEVENT
DTSTART;TZID=America/Edmonton:20250215T190000
DTEND;TZID=America/Edmonton:20250215T210000
DTSTAMP:20260420T081134
CREATED:20250123T005058Z
LAST-MODIFIED:20250123T005059Z
UID:12482-1739646000-1739653200@messymoosestudio.com
SUMMARY:Adult Paint Night
DESCRIPTION:🎨✨ Announcing Adult Paint Night at The Messy Moose Studio! ✨🎨 \nLooking for a unique and unforgettable night out? Join us for Paint Your Spouse\, Bestie\, or Awkward Second Date  at The Messy Moose Studio! \n🖌️ What’s Included: \n\nAll art materials needed to create your masterpiece\nStep-by-step suggestions for all skill levels (even beginners!)\nA delicious charcuterie board to snack on as you create\nLots and lots of laughter\n\n🖼️ The Experience:\nCelebrate the special bond you share by painting a portrait of your spouse\, best friend\, or date in a fun and relaxed atmosphere. Whether it’s heartfelt or hilariously abstract\, you’ll leave with a piece of art as unique as your connection. \n📅 Date: Saturday\, February 15th\n⏰ Time: 7 pm to 9 pm\n📍 Location: The Messy Moose Studio \n🎟️ Cost: $80 Per Couple\nSpaces are limited\, so reserve your spot now! \nGrab Your Spot Here!
URL:https://messymoosestudio.com/event/adult-paint-night/
LOCATION:The Messy Moose Studio\, 3\, 123 - 2 Avenue W\, Cochrane\, Alberta\, Canada
CATEGORIES:Messy Moose Events
ATTACH;FMTTYPE=image/png:https://messymoosestudio.com/wp-content/uploads/2024/12/Purple-Painting-Shop-Logo.png
END:VEVENT
END:VCALENDAR