BEGIN:VCALENDAR
VERSION:2.0
PRODID:-//The Messy Moose Kids Art Studio - ECPv6.15.20//NONSGML v1.0//EN
CALSCALE:GREGORIAN
METHOD:PUBLISH
X-WR-CALNAME:The Messy Moose Kids Art Studio
X-ORIGINAL-URL:https://messymoosestudio.com
X-WR-CALDESC:Events for The Messy Moose Kids Art Studio
REFRESH-INTERVAL;VALUE=DURATION:PT1H
X-Robots-Tag:noindex
X-PUBLISHED-TTL:PT1H
BEGIN:VTIMEZONE
TZID:America/Edmonton
BEGIN:DAYLIGHT
TZOFFSETFROM:-0700
TZOFFSETTO:-0600
TZNAME:MDT
DTSTART:20250309T090000
END:DAYLIGHT
BEGIN:STANDARD
TZOFFSETFROM:-0600
TZOFFSETTO:-0700
TZNAME:MST
DTSTART:20251102T080000
END:STANDARD
BEGIN:DAYLIGHT
TZOFFSETFROM:-0700
TZOFFSETTO:-0600
TZNAME:MDT
DTSTART:20260308T090000
END:DAYLIGHT
BEGIN:STANDARD
TZOFFSETFROM:-0600
TZOFFSETTO:-0700
TZNAME:MST
DTSTART:20261101T080000
END:STANDARD
BEGIN:DAYLIGHT
TZOFFSETFROM:-0700
TZOFFSETTO:-0600
TZNAME:MDT
DTSTART:20270314T090000
END:DAYLIGHT
BEGIN:STANDARD
TZOFFSETFROM:-0600
TZOFFSETTO:-0700
TZNAME:MST
DTSTART:20271107T080000
END:STANDARD
END:VTIMEZONE
BEGIN:VEVENT
DTSTART;TZID=America/Edmonton:20260116T173000
DTEND;TZID=America/Edmonton:20260116T193000
DTSTAMP:20260425T164740
CREATED:20251108T195919Z
LAST-MODIFIED:20251119T190650Z
UID:22151-1768584600-1768591800@messymoosestudio.com
SUMMARY:K-Pop Demon Hunters Night
DESCRIPTION:🎶✨ K-Pop Demon Hunters Night at The Messy Moose! ✨🎶Friday\, January 16th | 5:30 – 7:30 PM | The Messy Moose Studio \nCalling all K-Pop fans! 💜 Join us for a night full of music\, food\, and creativity inspired by your favourite movie \nWe’ll kick things off by making our own ramen noodles craft\, then dive into a hands-on art activity where you’ll design your very own K-pop-inspired paper doll cut-outs—customize outfits\, hairstyles\, and stage looks to bring your doll to life! \nAnd of course\, no K-Pop night would be complete without a little party food—pizza is included! 🍕 \n🎤 Ages 6 and up 🎶 Fun\, creative\, and fan-friendly🖌️ All art supplies provided \nTickets: $40 per child | Limited spots available \nCome hang out\, create\, and celebrate your love of K-Pop Demon Hunters with us at The Messy Moose Studio! \n**Please note\, these are the same activities from our November event**
URL:https://messymoosestudio.com/event/k-pop-demon-hunters-night/
LOCATION:The Messy Moose Studio\, 3\, 123 - 2 Avenue W\, Cochrane\, Alberta\, Canada
CATEGORIES:Messy Moose Events
ATTACH;FMTTYPE=image/jpeg:https://messymoosestudio.com/wp-content/uploads/2025/11/Fuchsia-And-Pink-Neon-Futuristic-Neon-K-Pop-Night-Flyer-Instagram-Post-3.jpg
END:VEVENT
END:VCALENDAR