BEGIN:VCALENDAR
VERSION:2.0
PRODID:-//The Messy Moose Kids Art Studio - ECPv6.15.20//NONSGML v1.0//EN
CALSCALE:GREGORIAN
METHOD:PUBLISH
X-ORIGINAL-URL:https://messymoosestudio.com
X-WR-CALDESC:Events for The Messy Moose Kids Art Studio
REFRESH-INTERVAL;VALUE=DURATION:PT1H
X-Robots-Tag:noindex
X-PUBLISHED-TTL:PT1H
BEGIN:VTIMEZONE
TZID:America/Edmonton
BEGIN:DAYLIGHT
TZOFFSETFROM:-0700
TZOFFSETTO:-0600
TZNAME:MDT
DTSTART:20250309T090000
END:DAYLIGHT
BEGIN:STANDARD
TZOFFSETFROM:-0600
TZOFFSETTO:-0700
TZNAME:MST
DTSTART:20251102T080000
END:STANDARD
BEGIN:DAYLIGHT
TZOFFSETFROM:-0700
TZOFFSETTO:-0600
TZNAME:MDT
DTSTART:20260308T090000
END:DAYLIGHT
BEGIN:STANDARD
TZOFFSETFROM:-0600
TZOFFSETTO:-0700
TZNAME:MST
DTSTART:20261101T080000
END:STANDARD
BEGIN:DAYLIGHT
TZOFFSETFROM:-0700
TZOFFSETTO:-0600
TZNAME:MDT
DTSTART:20270314T090000
END:DAYLIGHT
BEGIN:STANDARD
TZOFFSETFROM:-0600
TZOFFSETTO:-0700
TZNAME:MST
DTSTART:20271107T080000
END:STANDARD
END:VTIMEZONE
BEGIN:VEVENT
DTSTART;TZID=America/Edmonton:20261002T093000
DTEND;TZID=America/Edmonton:20261002T123000
DTSTAMP:20260421T023722
CREATED:20250319T170620Z
LAST-MODIFIED:20251107T185814Z
UID:10003060-1790933400-1790944200@messymoosestudio.com
SUMMARY:Drop Ins (Morning)
DESCRIPTION:
URL:https://messymoosestudio.com/event/studio-mornings-2/2026-10-02/
LOCATION:The Messy Moose Studio\, 3\, 123 - 2 Avenue W\, Cochrane\, Alberta\, Canada
ATTACH;FMTTYPE=image/png:https://messymoosestudio.com/wp-content/uploads/2024/07/Messy-Moose-SIte-Icon.png
END:VEVENT
BEGIN:VEVENT
DTSTART;TZID=America/Edmonton:20261002T133000
DTEND;TZID=America/Edmonton:20261002T163000
DTSTAMP:20260421T023722
CREATED:20241227T192033Z
LAST-MODIFIED:20250319T174149Z
UID:10005146-1790947800-1790958600@messymoosestudio.com
SUMMARY:Drop Ins (Afternoon)
DESCRIPTION:
URL:https://messymoosestudio.com/event/drop-ins-afternoon/2026-10-02/
LOCATION:The Messy Moose Studio\, 3\, 123 - 2 Avenue W\, Cochrane\, Alberta\, Canada
ATTACH;FMTTYPE=image/png:https://messymoosestudio.com/wp-content/uploads/2024/07/Messy-Moose-SIte-Icon.png
END:VEVENT
BEGIN:VEVENT
DTSTART;TZID=America/Edmonton:20261003T100000
DTEND;TZID=America/Edmonton:20261003T140000
DTSTAMP:20260421T023722
CREATED:20241227T192320Z
LAST-MODIFIED:20241227T193758Z
UID:10006957-1791021600-1791036000@messymoosestudio.com
SUMMARY:Drop Ins (Saturdays)
DESCRIPTION:
URL:https://messymoosestudio.com/event/drop-ins-saturdays/2026-10-03/
LOCATION:The Messy Moose Studio\, 3\, 123 - 2 Avenue W\, Cochrane\, Alberta\, Canada
ATTACH;FMTTYPE=image/png:https://messymoosestudio.com/wp-content/uploads/2024/07/Messy-Moose-SIte-Icon.png
END:VEVENT
BEGIN:VEVENT
DTSTART;VALUE=DATE:20261005
DTEND;VALUE=DATE:20261006
DTSTAMP:20260421T023722
CREATED:20240808T230316Z
LAST-MODIFIED:20240808T230556Z
UID:10002108-1791158400-1791244799@messymoosestudio.com
SUMMARY:Closed
DESCRIPTION:
URL:https://messymoosestudio.com/event/closed/2026-10-05/
LOCATION:The Messy Moose Studio\, 3\, 123 - 2 Avenue W\, Cochrane\, Alberta\, Canada
CATEGORIES:Messy Moose Events
END:VEVENT
BEGIN:VEVENT
DTSTART;TZID=America/Edmonton:20261006T093000
DTEND;TZID=America/Edmonton:20261006T123000
DTSTAMP:20260421T023722
CREATED:20250319T170620Z
LAST-MODIFIED:20251107T185814Z
UID:10003061-1791279000-1791289800@messymoosestudio.com
SUMMARY:Drop Ins (Morning)
DESCRIPTION:
URL:https://messymoosestudio.com/event/studio-mornings-2/2026-10-06/
LOCATION:The Messy Moose Studio\, 3\, 123 - 2 Avenue W\, Cochrane\, Alberta\, Canada
ATTACH;FMTTYPE=image/png:https://messymoosestudio.com/wp-content/uploads/2024/07/Messy-Moose-SIte-Icon.png
END:VEVENT
BEGIN:VEVENT
DTSTART;TZID=America/Edmonton:20261006T133000
DTEND;TZID=America/Edmonton:20261006T163000
DTSTAMP:20260421T023722
CREATED:20241227T192033Z
LAST-MODIFIED:20250319T174149Z
UID:10005147-1791293400-1791304200@messymoosestudio.com
SUMMARY:Drop Ins (Afternoon)
DESCRIPTION:
URL:https://messymoosestudio.com/event/drop-ins-afternoon/2026-10-06/
LOCATION:The Messy Moose Studio\, 3\, 123 - 2 Avenue W\, Cochrane\, Alberta\, Canada
ATTACH;FMTTYPE=image/png:https://messymoosestudio.com/wp-content/uploads/2024/07/Messy-Moose-SIte-Icon.png
END:VEVENT
BEGIN:VEVENT
DTSTART;TZID=America/Edmonton:20261007T093000
DTEND;TZID=America/Edmonton:20261007T123000
DTSTAMP:20260421T023722
CREATED:20250319T170620Z
LAST-MODIFIED:20251107T185814Z
UID:10003062-1791365400-1791376200@messymoosestudio.com
SUMMARY:Drop Ins (Morning)
DESCRIPTION:
URL:https://messymoosestudio.com/event/studio-mornings-2/2026-10-07/
LOCATION:The Messy Moose Studio\, 3\, 123 - 2 Avenue W\, Cochrane\, Alberta\, Canada
ATTACH;FMTTYPE=image/png:https://messymoosestudio.com/wp-content/uploads/2024/07/Messy-Moose-SIte-Icon.png
END:VEVENT
BEGIN:VEVENT
DTSTART;TZID=America/Edmonton:20261007T133000
DTEND;TZID=America/Edmonton:20261007T163000
DTSTAMP:20260421T023722
CREATED:20241227T192849Z
LAST-MODIFIED:20250327T154904Z
UID:10007478-1791379800-1791390600@messymoosestudio.com
SUMMARY:Drop Ins (Afternoons)
DESCRIPTION:
URL:https://messymoosestudio.com/event/drop-ins-quiet-sensory-afternoons/2026-10-07/
LOCATION:The Messy Moose Studio\, 3\, 123 - 2 Avenue W\, Cochrane\, Alberta\, Canada
END:VEVENT
BEGIN:VEVENT
DTSTART;TZID=America/Edmonton:20261008T093000
DTEND;TZID=America/Edmonton:20261008T123000
DTSTAMP:20260421T023722
CREATED:20250319T170620Z
LAST-MODIFIED:20251107T185814Z
UID:10003063-1791451800-1791462600@messymoosestudio.com
SUMMARY:Drop Ins (Morning)
DESCRIPTION:
URL:https://messymoosestudio.com/event/studio-mornings-2/2026-10-08/
LOCATION:The Messy Moose Studio\, 3\, 123 - 2 Avenue W\, Cochrane\, Alberta\, Canada
ATTACH;FMTTYPE=image/png:https://messymoosestudio.com/wp-content/uploads/2024/07/Messy-Moose-SIte-Icon.png
END:VEVENT
BEGIN:VEVENT
DTSTART;TZID=America/Edmonton:20261008T133000
DTEND;TZID=America/Edmonton:20261008T190000
DTSTAMP:20260421T023722
CREATED:20241227T192805Z
LAST-MODIFIED:20250319T164448Z
UID:10007218-1791466200-1791486000@messymoosestudio.com
SUMMARY:Drop Ins (Open Late)
DESCRIPTION:
URL:https://messymoosestudio.com/event/drop-ins-open-late/2026-10-08/
LOCATION:The Messy Moose Studio\, 3\, 123 - 2 Avenue W\, Cochrane\, Alberta\, Canada
END:VEVENT
BEGIN:VEVENT
DTSTART;TZID=America/Edmonton:20261009T093000
DTEND;TZID=America/Edmonton:20261009T123000
DTSTAMP:20260421T023722
CREATED:20250319T170620Z
LAST-MODIFIED:20251107T185814Z
UID:10003064-1791538200-1791549000@messymoosestudio.com
SUMMARY:Drop Ins (Morning)
DESCRIPTION:
URL:https://messymoosestudio.com/event/studio-mornings-2/2026-10-09/
LOCATION:The Messy Moose Studio\, 3\, 123 - 2 Avenue W\, Cochrane\, Alberta\, Canada
ATTACH;FMTTYPE=image/png:https://messymoosestudio.com/wp-content/uploads/2024/07/Messy-Moose-SIte-Icon.png
END:VEVENT
BEGIN:VEVENT
DTSTART;TZID=America/Edmonton:20261009T133000
DTEND;TZID=America/Edmonton:20261009T163000
DTSTAMP:20260421T023722
CREATED:20241227T192033Z
LAST-MODIFIED:20250319T174149Z
UID:10005150-1791552600-1791563400@messymoosestudio.com
SUMMARY:Drop Ins (Afternoon)
DESCRIPTION:
URL:https://messymoosestudio.com/event/drop-ins-afternoon/2026-10-09/
LOCATION:The Messy Moose Studio\, 3\, 123 - 2 Avenue W\, Cochrane\, Alberta\, Canada
ATTACH;FMTTYPE=image/png:https://messymoosestudio.com/wp-content/uploads/2024/07/Messy-Moose-SIte-Icon.png
END:VEVENT
BEGIN:VEVENT
DTSTART;TZID=America/Edmonton:20261010T100000
DTEND;TZID=America/Edmonton:20261010T140000
DTSTAMP:20260421T023722
CREATED:20241227T192320Z
LAST-MODIFIED:20241227T193758Z
UID:10006958-1791626400-1791640800@messymoosestudio.com
SUMMARY:Drop Ins (Saturdays)
DESCRIPTION:
URL:https://messymoosestudio.com/event/drop-ins-saturdays/2026-10-10/
LOCATION:The Messy Moose Studio\, 3\, 123 - 2 Avenue W\, Cochrane\, Alberta\, Canada
ATTACH;FMTTYPE=image/png:https://messymoosestudio.com/wp-content/uploads/2024/07/Messy-Moose-SIte-Icon.png
END:VEVENT
BEGIN:VEVENT
DTSTART;VALUE=DATE:20261012
DTEND;VALUE=DATE:20261013
DTSTAMP:20260421T023722
CREATED:20240808T230316Z
LAST-MODIFIED:20240808T230556Z
UID:10002109-1791763200-1791849599@messymoosestudio.com
SUMMARY:Closed
DESCRIPTION:
URL:https://messymoosestudio.com/event/closed/2026-10-12/
LOCATION:The Messy Moose Studio\, 3\, 123 - 2 Avenue W\, Cochrane\, Alberta\, Canada
CATEGORIES:Messy Moose Events
END:VEVENT
BEGIN:VEVENT
DTSTART;TZID=America/Edmonton:20261013T093000
DTEND;TZID=America/Edmonton:20261013T123000
DTSTAMP:20260421T023722
CREATED:20250319T170620Z
LAST-MODIFIED:20251107T185814Z
UID:10003065-1791883800-1791894600@messymoosestudio.com
SUMMARY:Drop Ins (Morning)
DESCRIPTION:
URL:https://messymoosestudio.com/event/studio-mornings-2/2026-10-13/
LOCATION:The Messy Moose Studio\, 3\, 123 - 2 Avenue W\, Cochrane\, Alberta\, Canada
ATTACH;FMTTYPE=image/png:https://messymoosestudio.com/wp-content/uploads/2024/07/Messy-Moose-SIte-Icon.png
END:VEVENT
BEGIN:VEVENT
DTSTART;TZID=America/Edmonton:20261013T133000
DTEND;TZID=America/Edmonton:20261013T163000
DTSTAMP:20260421T023722
CREATED:20241227T192033Z
LAST-MODIFIED:20250319T174149Z
UID:10005151-1791898200-1791909000@messymoosestudio.com
SUMMARY:Drop Ins (Afternoon)
DESCRIPTION:
URL:https://messymoosestudio.com/event/drop-ins-afternoon/2026-10-13/
LOCATION:The Messy Moose Studio\, 3\, 123 - 2 Avenue W\, Cochrane\, Alberta\, Canada
ATTACH;FMTTYPE=image/png:https://messymoosestudio.com/wp-content/uploads/2024/07/Messy-Moose-SIte-Icon.png
END:VEVENT
BEGIN:VEVENT
DTSTART;TZID=America/Edmonton:20261014T093000
DTEND;TZID=America/Edmonton:20261014T123000
DTSTAMP:20260421T023722
CREATED:20250319T170620Z
LAST-MODIFIED:20251107T185814Z
UID:10003066-1791970200-1791981000@messymoosestudio.com
SUMMARY:Drop Ins (Morning)
DESCRIPTION:
URL:https://messymoosestudio.com/event/studio-mornings-2/2026-10-14/
LOCATION:The Messy Moose Studio\, 3\, 123 - 2 Avenue W\, Cochrane\, Alberta\, Canada
ATTACH;FMTTYPE=image/png:https://messymoosestudio.com/wp-content/uploads/2024/07/Messy-Moose-SIte-Icon.png
END:VEVENT
BEGIN:VEVENT
DTSTART;TZID=America/Edmonton:20261014T133000
DTEND;TZID=America/Edmonton:20261014T163000
DTSTAMP:20260421T023722
CREATED:20241227T192849Z
LAST-MODIFIED:20250327T154904Z
UID:10007479-1791984600-1791995400@messymoosestudio.com
SUMMARY:Drop Ins (Afternoons)
DESCRIPTION:
URL:https://messymoosestudio.com/event/drop-ins-quiet-sensory-afternoons/2026-10-14/
LOCATION:The Messy Moose Studio\, 3\, 123 - 2 Avenue W\, Cochrane\, Alberta\, Canada
END:VEVENT
BEGIN:VEVENT
DTSTART;TZID=America/Edmonton:20261015T093000
DTEND;TZID=America/Edmonton:20261015T123000
DTSTAMP:20260421T023722
CREATED:20250319T170620Z
LAST-MODIFIED:20251107T185814Z
UID:10003067-1792056600-1792067400@messymoosestudio.com
SUMMARY:Drop Ins (Morning)
DESCRIPTION:
URL:https://messymoosestudio.com/event/studio-mornings-2/2026-10-15/
LOCATION:The Messy Moose Studio\, 3\, 123 - 2 Avenue W\, Cochrane\, Alberta\, Canada
ATTACH;FMTTYPE=image/png:https://messymoosestudio.com/wp-content/uploads/2024/07/Messy-Moose-SIte-Icon.png
END:VEVENT
BEGIN:VEVENT
DTSTART;TZID=America/Edmonton:20261015T133000
DTEND;TZID=America/Edmonton:20261015T190000
DTSTAMP:20260421T023722
CREATED:20241227T192805Z
LAST-MODIFIED:20250319T164448Z
UID:10007219-1792071000-1792090800@messymoosestudio.com
SUMMARY:Drop Ins (Open Late)
DESCRIPTION:
URL:https://messymoosestudio.com/event/drop-ins-open-late/2026-10-15/
LOCATION:The Messy Moose Studio\, 3\, 123 - 2 Avenue W\, Cochrane\, Alberta\, Canada
END:VEVENT
BEGIN:VEVENT
DTSTART;TZID=America/Edmonton:20261016T093000
DTEND;TZID=America/Edmonton:20261016T123000
DTSTAMP:20260421T023722
CREATED:20250319T170620Z
LAST-MODIFIED:20251107T185814Z
UID:10003068-1792143000-1792153800@messymoosestudio.com
SUMMARY:Drop Ins (Morning)
DESCRIPTION:
URL:https://messymoosestudio.com/event/studio-mornings-2/2026-10-16/
LOCATION:The Messy Moose Studio\, 3\, 123 - 2 Avenue W\, Cochrane\, Alberta\, Canada
ATTACH;FMTTYPE=image/png:https://messymoosestudio.com/wp-content/uploads/2024/07/Messy-Moose-SIte-Icon.png
END:VEVENT
BEGIN:VEVENT
DTSTART;TZID=America/Edmonton:20261016T133000
DTEND;TZID=America/Edmonton:20261016T163000
DTSTAMP:20260421T023722
CREATED:20241227T192033Z
LAST-MODIFIED:20250319T174149Z
UID:10005154-1792157400-1792168200@messymoosestudio.com
SUMMARY:Drop Ins (Afternoon)
DESCRIPTION:
URL:https://messymoosestudio.com/event/drop-ins-afternoon/2026-10-16/
LOCATION:The Messy Moose Studio\, 3\, 123 - 2 Avenue W\, Cochrane\, Alberta\, Canada
ATTACH;FMTTYPE=image/png:https://messymoosestudio.com/wp-content/uploads/2024/07/Messy-Moose-SIte-Icon.png
END:VEVENT
BEGIN:VEVENT
DTSTART;TZID=America/Edmonton:20261017T100000
DTEND;TZID=America/Edmonton:20261017T140000
DTSTAMP:20260421T023722
CREATED:20241227T192320Z
LAST-MODIFIED:20241227T193758Z
UID:10006959-1792231200-1792245600@messymoosestudio.com
SUMMARY:Drop Ins (Saturdays)
DESCRIPTION:
URL:https://messymoosestudio.com/event/drop-ins-saturdays/2026-10-17/
LOCATION:The Messy Moose Studio\, 3\, 123 - 2 Avenue W\, Cochrane\, Alberta\, Canada
ATTACH;FMTTYPE=image/png:https://messymoosestudio.com/wp-content/uploads/2024/07/Messy-Moose-SIte-Icon.png
END:VEVENT
BEGIN:VEVENT
DTSTART;VALUE=DATE:20261019
DTEND;VALUE=DATE:20261020
DTSTAMP:20260421T023722
CREATED:20240808T230316Z
LAST-MODIFIED:20240808T230556Z
UID:10002110-1792368000-1792454399@messymoosestudio.com
SUMMARY:Closed
DESCRIPTION:
URL:https://messymoosestudio.com/event/closed/2026-10-19/
LOCATION:The Messy Moose Studio\, 3\, 123 - 2 Avenue W\, Cochrane\, Alberta\, Canada
CATEGORIES:Messy Moose Events
END:VEVENT
BEGIN:VEVENT
DTSTART;TZID=America/Edmonton:20261020T093000
DTEND;TZID=America/Edmonton:20261020T123000
DTSTAMP:20260421T023722
CREATED:20250319T170620Z
LAST-MODIFIED:20251107T185814Z
UID:10003069-1792488600-1792499400@messymoosestudio.com
SUMMARY:Drop Ins (Morning)
DESCRIPTION:
URL:https://messymoosestudio.com/event/studio-mornings-2/2026-10-20/
LOCATION:The Messy Moose Studio\, 3\, 123 - 2 Avenue W\, Cochrane\, Alberta\, Canada
ATTACH;FMTTYPE=image/png:https://messymoosestudio.com/wp-content/uploads/2024/07/Messy-Moose-SIte-Icon.png
END:VEVENT
BEGIN:VEVENT
DTSTART;TZID=America/Edmonton:20261020T133000
DTEND;TZID=America/Edmonton:20261020T163000
DTSTAMP:20260421T023722
CREATED:20241227T192033Z
LAST-MODIFIED:20250319T174149Z
UID:10005155-1792503000-1792513800@messymoosestudio.com
SUMMARY:Drop Ins (Afternoon)
DESCRIPTION:
URL:https://messymoosestudio.com/event/drop-ins-afternoon/2026-10-20/
LOCATION:The Messy Moose Studio\, 3\, 123 - 2 Avenue W\, Cochrane\, Alberta\, Canada
ATTACH;FMTTYPE=image/png:https://messymoosestudio.com/wp-content/uploads/2024/07/Messy-Moose-SIte-Icon.png
END:VEVENT
BEGIN:VEVENT
DTSTART;TZID=America/Edmonton:20261021T093000
DTEND;TZID=America/Edmonton:20261021T123000
DTSTAMP:20260421T023722
CREATED:20250319T170620Z
LAST-MODIFIED:20251107T185814Z
UID:10003070-1792575000-1792585800@messymoosestudio.com
SUMMARY:Drop Ins (Morning)
DESCRIPTION:
URL:https://messymoosestudio.com/event/studio-mornings-2/2026-10-21/
LOCATION:The Messy Moose Studio\, 3\, 123 - 2 Avenue W\, Cochrane\, Alberta\, Canada
ATTACH;FMTTYPE=image/png:https://messymoosestudio.com/wp-content/uploads/2024/07/Messy-Moose-SIte-Icon.png
END:VEVENT
BEGIN:VEVENT
DTSTART;TZID=America/Edmonton:20261021T133000
DTEND;TZID=America/Edmonton:20261021T163000
DTSTAMP:20260421T023722
CREATED:20241227T192849Z
LAST-MODIFIED:20250327T154904Z
UID:10007480-1792589400-1792600200@messymoosestudio.com
SUMMARY:Drop Ins (Afternoons)
DESCRIPTION:
URL:https://messymoosestudio.com/event/drop-ins-quiet-sensory-afternoons/2026-10-21/
LOCATION:The Messy Moose Studio\, 3\, 123 - 2 Avenue W\, Cochrane\, Alberta\, Canada
END:VEVENT
BEGIN:VEVENT
DTSTART;TZID=America/Edmonton:20261022T093000
DTEND;TZID=America/Edmonton:20261022T123000
DTSTAMP:20260421T023722
CREATED:20250319T170620Z
LAST-MODIFIED:20251107T185814Z
UID:10003071-1792661400-1792672200@messymoosestudio.com
SUMMARY:Drop Ins (Morning)
DESCRIPTION:
URL:https://messymoosestudio.com/event/studio-mornings-2/2026-10-22/
LOCATION:The Messy Moose Studio\, 3\, 123 - 2 Avenue W\, Cochrane\, Alberta\, Canada
ATTACH;FMTTYPE=image/png:https://messymoosestudio.com/wp-content/uploads/2024/07/Messy-Moose-SIte-Icon.png
END:VEVENT
BEGIN:VEVENT
DTSTART;TZID=America/Edmonton:20261022T133000
DTEND;TZID=America/Edmonton:20261022T190000
DTSTAMP:20260421T023722
CREATED:20241227T192805Z
LAST-MODIFIED:20250319T164448Z
UID:10007220-1792675800-1792695600@messymoosestudio.com
SUMMARY:Drop Ins (Open Late)
DESCRIPTION:
URL:https://messymoosestudio.com/event/drop-ins-open-late/2026-10-22/
LOCATION:The Messy Moose Studio\, 3\, 123 - 2 Avenue W\, Cochrane\, Alberta\, Canada
END:VEVENT
END:VCALENDAR