BEGIN:VCALENDAR
VERSION:2.0
PRODID:-//The Messy Moose Kids Art Studio - ECPv6.15.20//NONSGML v1.0//EN
CALSCALE:GREGORIAN
METHOD:PUBLISH
X-ORIGINAL-URL:https://messymoosestudio.com
X-WR-CALDESC:Events for The Messy Moose Kids Art Studio
REFRESH-INTERVAL;VALUE=DURATION:PT1H
X-Robots-Tag:noindex
X-PUBLISHED-TTL:PT1H
BEGIN:VTIMEZONE
TZID:America/Edmonton
BEGIN:DAYLIGHT
TZOFFSETFROM:-0700
TZOFFSETTO:-0600
TZNAME:MDT
DTSTART:20250309T090000
END:DAYLIGHT
BEGIN:STANDARD
TZOFFSETFROM:-0600
TZOFFSETTO:-0700
TZNAME:MST
DTSTART:20251102T080000
END:STANDARD
BEGIN:DAYLIGHT
TZOFFSETFROM:-0700
TZOFFSETTO:-0600
TZNAME:MDT
DTSTART:20260308T090000
END:DAYLIGHT
BEGIN:STANDARD
TZOFFSETFROM:-0600
TZOFFSETTO:-0700
TZNAME:MST
DTSTART:20261101T080000
END:STANDARD
BEGIN:DAYLIGHT
TZOFFSETFROM:-0700
TZOFFSETTO:-0600
TZNAME:MDT
DTSTART:20270314T090000
END:DAYLIGHT
BEGIN:STANDARD
TZOFFSETFROM:-0600
TZOFFSETTO:-0700
TZNAME:MST
DTSTART:20271107T080000
END:STANDARD
END:VTIMEZONE
BEGIN:VEVENT
DTSTART;TZID=America/Edmonton:20261117T133000
DTEND;TZID=America/Edmonton:20261117T163000
DTSTAMP:20260423T100740
CREATED:20241227T192033Z
LAST-MODIFIED:20250319T174149Z
UID:10005171-1794922200-1794933000@messymoosestudio.com
SUMMARY:Drop Ins (Afternoon)
DESCRIPTION:
URL:https://messymoosestudio.com/event/drop-ins-afternoon/2026-11-17/
LOCATION:The Messy Moose Studio\, 3\, 123 - 2 Avenue W\, Cochrane\, Alberta\, Canada
ATTACH;FMTTYPE=image/png:https://messymoosestudio.com/wp-content/uploads/2024/07/Messy-Moose-SIte-Icon.png
END:VEVENT
BEGIN:VEVENT
DTSTART;TZID=America/Edmonton:20261118T093000
DTEND;TZID=America/Edmonton:20261118T123000
DTSTAMP:20260423T100740
CREATED:20250319T170620Z
LAST-MODIFIED:20251107T185814Z
UID:10003086-1794994200-1795005000@messymoosestudio.com
SUMMARY:Drop Ins (Morning)
DESCRIPTION:
URL:https://messymoosestudio.com/event/studio-mornings-2/2026-11-18/
LOCATION:The Messy Moose Studio\, 3\, 123 - 2 Avenue W\, Cochrane\, Alberta\, Canada
ATTACH;FMTTYPE=image/png:https://messymoosestudio.com/wp-content/uploads/2024/07/Messy-Moose-SIte-Icon.png
END:VEVENT
BEGIN:VEVENT
DTSTART;TZID=America/Edmonton:20261118T133000
DTEND;TZID=America/Edmonton:20261118T163000
DTSTAMP:20260423T100740
CREATED:20241227T192849Z
LAST-MODIFIED:20250327T154904Z
UID:10007484-1795008600-1795019400@messymoosestudio.com
SUMMARY:Drop Ins (Afternoons)
DESCRIPTION:
URL:https://messymoosestudio.com/event/drop-ins-quiet-sensory-afternoons/2026-11-18/
LOCATION:The Messy Moose Studio\, 3\, 123 - 2 Avenue W\, Cochrane\, Alberta\, Canada
END:VEVENT
BEGIN:VEVENT
DTSTART;TZID=America/Edmonton:20261119T093000
DTEND;TZID=America/Edmonton:20261119T123000
DTSTAMP:20260423T100740
CREATED:20250319T170620Z
LAST-MODIFIED:20251107T185814Z
UID:10003087-1795080600-1795091400@messymoosestudio.com
SUMMARY:Drop Ins (Morning)
DESCRIPTION:
URL:https://messymoosestudio.com/event/studio-mornings-2/2026-11-19/
LOCATION:The Messy Moose Studio\, 3\, 123 - 2 Avenue W\, Cochrane\, Alberta\, Canada
ATTACH;FMTTYPE=image/png:https://messymoosestudio.com/wp-content/uploads/2024/07/Messy-Moose-SIte-Icon.png
END:VEVENT
BEGIN:VEVENT
DTSTART;TZID=America/Edmonton:20261119T133000
DTEND;TZID=America/Edmonton:20261119T190000
DTSTAMP:20260423T100740
CREATED:20241227T192805Z
LAST-MODIFIED:20250319T164448Z
UID:10007224-1795095000-1795114800@messymoosestudio.com
SUMMARY:Drop Ins (Open Late)
DESCRIPTION:
URL:https://messymoosestudio.com/event/drop-ins-open-late/2026-11-19/
LOCATION:The Messy Moose Studio\, 3\, 123 - 2 Avenue W\, Cochrane\, Alberta\, Canada
END:VEVENT
BEGIN:VEVENT
DTSTART;TZID=America/Edmonton:20261120T093000
DTEND;TZID=America/Edmonton:20261120T123000
DTSTAMP:20260423T100740
CREATED:20250319T170620Z
LAST-MODIFIED:20251107T185814Z
UID:10003088-1795167000-1795177800@messymoosestudio.com
SUMMARY:Drop Ins (Morning)
DESCRIPTION:
URL:https://messymoosestudio.com/event/studio-mornings-2/2026-11-20/
LOCATION:The Messy Moose Studio\, 3\, 123 - 2 Avenue W\, Cochrane\, Alberta\, Canada
ATTACH;FMTTYPE=image/png:https://messymoosestudio.com/wp-content/uploads/2024/07/Messy-Moose-SIte-Icon.png
END:VEVENT
BEGIN:VEVENT
DTSTART;TZID=America/Edmonton:20261120T133000
DTEND;TZID=America/Edmonton:20261120T163000
DTSTAMP:20260423T100740
CREATED:20241227T192033Z
LAST-MODIFIED:20250319T174149Z
UID:10005174-1795181400-1795192200@messymoosestudio.com
SUMMARY:Drop Ins (Afternoon)
DESCRIPTION:
URL:https://messymoosestudio.com/event/drop-ins-afternoon/2026-11-20/
LOCATION:The Messy Moose Studio\, 3\, 123 - 2 Avenue W\, Cochrane\, Alberta\, Canada
ATTACH;FMTTYPE=image/png:https://messymoosestudio.com/wp-content/uploads/2024/07/Messy-Moose-SIte-Icon.png
END:VEVENT
BEGIN:VEVENT
DTSTART;TZID=America/Edmonton:20261121T100000
DTEND;TZID=America/Edmonton:20261121T140000
DTSTAMP:20260423T100740
CREATED:20241227T192320Z
LAST-MODIFIED:20241227T193758Z
UID:10006964-1795255200-1795269600@messymoosestudio.com
SUMMARY:Drop Ins (Saturdays)
DESCRIPTION:
URL:https://messymoosestudio.com/event/drop-ins-saturdays/2026-11-21/
LOCATION:The Messy Moose Studio\, 3\, 123 - 2 Avenue W\, Cochrane\, Alberta\, Canada
ATTACH;FMTTYPE=image/png:https://messymoosestudio.com/wp-content/uploads/2024/07/Messy-Moose-SIte-Icon.png
END:VEVENT
BEGIN:VEVENT
DTSTART;VALUE=DATE:20261123
DTEND;VALUE=DATE:20261124
DTSTAMP:20260423T100740
CREATED:20240808T230316Z
LAST-MODIFIED:20240808T230556Z
UID:10002115-1795392000-1795478399@messymoosestudio.com
SUMMARY:Closed
DESCRIPTION:
URL:https://messymoosestudio.com/event/closed/2026-11-23/
LOCATION:The Messy Moose Studio\, 3\, 123 - 2 Avenue W\, Cochrane\, Alberta\, Canada
CATEGORIES:Messy Moose Events
END:VEVENT
BEGIN:VEVENT
DTSTART;TZID=America/Edmonton:20261124T093000
DTEND;TZID=America/Edmonton:20261124T123000
DTSTAMP:20260423T100740
CREATED:20250319T170620Z
LAST-MODIFIED:20251107T185814Z
UID:10003089-1795512600-1795523400@messymoosestudio.com
SUMMARY:Drop Ins (Morning)
DESCRIPTION:
URL:https://messymoosestudio.com/event/studio-mornings-2/2026-11-24/
LOCATION:The Messy Moose Studio\, 3\, 123 - 2 Avenue W\, Cochrane\, Alberta\, Canada
ATTACH;FMTTYPE=image/png:https://messymoosestudio.com/wp-content/uploads/2024/07/Messy-Moose-SIte-Icon.png
END:VEVENT
BEGIN:VEVENT
DTSTART;TZID=America/Edmonton:20261124T133000
DTEND;TZID=America/Edmonton:20261124T163000
DTSTAMP:20260423T100740
CREATED:20241227T192033Z
LAST-MODIFIED:20250319T174149Z
UID:10005175-1795527000-1795537800@messymoosestudio.com
SUMMARY:Drop Ins (Afternoon)
DESCRIPTION:
URL:https://messymoosestudio.com/event/drop-ins-afternoon/2026-11-24/
LOCATION:The Messy Moose Studio\, 3\, 123 - 2 Avenue W\, Cochrane\, Alberta\, Canada
ATTACH;FMTTYPE=image/png:https://messymoosestudio.com/wp-content/uploads/2024/07/Messy-Moose-SIte-Icon.png
END:VEVENT
BEGIN:VEVENT
DTSTART;TZID=America/Edmonton:20261125T093000
DTEND;TZID=America/Edmonton:20261125T123000
DTSTAMP:20260423T100740
CREATED:20250319T170620Z
LAST-MODIFIED:20251107T185814Z
UID:10003090-1795599000-1795609800@messymoosestudio.com
SUMMARY:Drop Ins (Morning)
DESCRIPTION:
URL:https://messymoosestudio.com/event/studio-mornings-2/2026-11-25/
LOCATION:The Messy Moose Studio\, 3\, 123 - 2 Avenue W\, Cochrane\, Alberta\, Canada
ATTACH;FMTTYPE=image/png:https://messymoosestudio.com/wp-content/uploads/2024/07/Messy-Moose-SIte-Icon.png
END:VEVENT
BEGIN:VEVENT
DTSTART;TZID=America/Edmonton:20261125T133000
DTEND;TZID=America/Edmonton:20261125T163000
DTSTAMP:20260423T100740
CREATED:20241227T192849Z
LAST-MODIFIED:20250327T154904Z
UID:10007485-1795613400-1795624200@messymoosestudio.com
SUMMARY:Drop Ins (Afternoons)
DESCRIPTION:
URL:https://messymoosestudio.com/event/drop-ins-quiet-sensory-afternoons/2026-11-25/
LOCATION:The Messy Moose Studio\, 3\, 123 - 2 Avenue W\, Cochrane\, Alberta\, Canada
END:VEVENT
BEGIN:VEVENT
DTSTART;TZID=America/Edmonton:20261126T093000
DTEND;TZID=America/Edmonton:20261126T123000
DTSTAMP:20260423T100740
CREATED:20250319T170620Z
LAST-MODIFIED:20251107T185814Z
UID:10003091-1795685400-1795696200@messymoosestudio.com
SUMMARY:Drop Ins (Morning)
DESCRIPTION:
URL:https://messymoosestudio.com/event/studio-mornings-2/2026-11-26/
LOCATION:The Messy Moose Studio\, 3\, 123 - 2 Avenue W\, Cochrane\, Alberta\, Canada
ATTACH;FMTTYPE=image/png:https://messymoosestudio.com/wp-content/uploads/2024/07/Messy-Moose-SIte-Icon.png
END:VEVENT
BEGIN:VEVENT
DTSTART;TZID=America/Edmonton:20261126T133000
DTEND;TZID=America/Edmonton:20261126T190000
DTSTAMP:20260423T100740
CREATED:20241227T192805Z
LAST-MODIFIED:20250319T164448Z
UID:10007225-1795699800-1795719600@messymoosestudio.com
SUMMARY:Drop Ins (Open Late)
DESCRIPTION:
URL:https://messymoosestudio.com/event/drop-ins-open-late/2026-11-26/
LOCATION:The Messy Moose Studio\, 3\, 123 - 2 Avenue W\, Cochrane\, Alberta\, Canada
END:VEVENT
BEGIN:VEVENT
DTSTART;TZID=America/Edmonton:20261127T093000
DTEND;TZID=America/Edmonton:20261127T123000
DTSTAMP:20260423T100740
CREATED:20250319T170620Z
LAST-MODIFIED:20251107T185814Z
UID:10003092-1795771800-1795782600@messymoosestudio.com
SUMMARY:Drop Ins (Morning)
DESCRIPTION:
URL:https://messymoosestudio.com/event/studio-mornings-2/2026-11-27/
LOCATION:The Messy Moose Studio\, 3\, 123 - 2 Avenue W\, Cochrane\, Alberta\, Canada
ATTACH;FMTTYPE=image/png:https://messymoosestudio.com/wp-content/uploads/2024/07/Messy-Moose-SIte-Icon.png
END:VEVENT
BEGIN:VEVENT
DTSTART;TZID=America/Edmonton:20261127T133000
DTEND;TZID=America/Edmonton:20261127T163000
DTSTAMP:20260423T100740
CREATED:20241227T192033Z
LAST-MODIFIED:20250319T174149Z
UID:10005178-1795786200-1795797000@messymoosestudio.com
SUMMARY:Drop Ins (Afternoon)
DESCRIPTION:
URL:https://messymoosestudio.com/event/drop-ins-afternoon/2026-11-27/
LOCATION:The Messy Moose Studio\, 3\, 123 - 2 Avenue W\, Cochrane\, Alberta\, Canada
ATTACH;FMTTYPE=image/png:https://messymoosestudio.com/wp-content/uploads/2024/07/Messy-Moose-SIte-Icon.png
END:VEVENT
BEGIN:VEVENT
DTSTART;TZID=America/Edmonton:20261128T100000
DTEND;TZID=America/Edmonton:20261128T140000
DTSTAMP:20260423T100740
CREATED:20241227T192320Z
LAST-MODIFIED:20241227T193758Z
UID:10006965-1795860000-1795874400@messymoosestudio.com
SUMMARY:Drop Ins (Saturdays)
DESCRIPTION:
URL:https://messymoosestudio.com/event/drop-ins-saturdays/2026-11-28/
LOCATION:The Messy Moose Studio\, 3\, 123 - 2 Avenue W\, Cochrane\, Alberta\, Canada
ATTACH;FMTTYPE=image/png:https://messymoosestudio.com/wp-content/uploads/2024/07/Messy-Moose-SIte-Icon.png
END:VEVENT
BEGIN:VEVENT
DTSTART;VALUE=DATE:20261130
DTEND;VALUE=DATE:20261201
DTSTAMP:20260423T100740
CREATED:20240808T230316Z
LAST-MODIFIED:20240808T230556Z
UID:10002116-1795996800-1796083199@messymoosestudio.com
SUMMARY:Closed
DESCRIPTION:
URL:https://messymoosestudio.com/event/closed/2026-11-30/
LOCATION:The Messy Moose Studio\, 3\, 123 - 2 Avenue W\, Cochrane\, Alberta\, Canada
CATEGORIES:Messy Moose Events
END:VEVENT
BEGIN:VEVENT
DTSTART;TZID=America/Edmonton:20261201T093000
DTEND;TZID=America/Edmonton:20261201T123000
DTSTAMP:20260423T100740
CREATED:20250319T170620Z
LAST-MODIFIED:20251107T185814Z
UID:10003093-1796117400-1796128200@messymoosestudio.com
SUMMARY:Drop Ins (Morning)
DESCRIPTION:
URL:https://messymoosestudio.com/event/studio-mornings-2/2026-12-01/
LOCATION:The Messy Moose Studio\, 3\, 123 - 2 Avenue W\, Cochrane\, Alberta\, Canada
ATTACH;FMTTYPE=image/png:https://messymoosestudio.com/wp-content/uploads/2024/07/Messy-Moose-SIte-Icon.png
END:VEVENT
BEGIN:VEVENT
DTSTART;TZID=America/Edmonton:20261201T133000
DTEND;TZID=America/Edmonton:20261201T163000
DTSTAMP:20260423T100740
CREATED:20241227T192033Z
LAST-MODIFIED:20250319T174149Z
UID:10005179-1796131800-1796142600@messymoosestudio.com
SUMMARY:Drop Ins (Afternoon)
DESCRIPTION:
URL:https://messymoosestudio.com/event/drop-ins-afternoon/2026-12-01/
LOCATION:The Messy Moose Studio\, 3\, 123 - 2 Avenue W\, Cochrane\, Alberta\, Canada
ATTACH;FMTTYPE=image/png:https://messymoosestudio.com/wp-content/uploads/2024/07/Messy-Moose-SIte-Icon.png
END:VEVENT
BEGIN:VEVENT
DTSTART;TZID=America/Edmonton:20261202T093000
DTEND;TZID=America/Edmonton:20261202T123000
DTSTAMP:20260423T100740
CREATED:20250319T170620Z
LAST-MODIFIED:20251107T185814Z
UID:10003094-1796203800-1796214600@messymoosestudio.com
SUMMARY:Drop Ins (Morning)
DESCRIPTION:
URL:https://messymoosestudio.com/event/studio-mornings-2/2026-12-02/
LOCATION:The Messy Moose Studio\, 3\, 123 - 2 Avenue W\, Cochrane\, Alberta\, Canada
ATTACH;FMTTYPE=image/png:https://messymoosestudio.com/wp-content/uploads/2024/07/Messy-Moose-SIte-Icon.png
END:VEVENT
BEGIN:VEVENT
DTSTART;TZID=America/Edmonton:20261202T133000
DTEND;TZID=America/Edmonton:20261202T163000
DTSTAMP:20260423T100740
CREATED:20241227T192849Z
LAST-MODIFIED:20250327T154904Z
UID:10007486-1796218200-1796229000@messymoosestudio.com
SUMMARY:Drop Ins (Afternoons)
DESCRIPTION:
URL:https://messymoosestudio.com/event/drop-ins-quiet-sensory-afternoons/2026-12-02/
LOCATION:The Messy Moose Studio\, 3\, 123 - 2 Avenue W\, Cochrane\, Alberta\, Canada
END:VEVENT
BEGIN:VEVENT
DTSTART;TZID=America/Edmonton:20261203T093000
DTEND;TZID=America/Edmonton:20261203T123000
DTSTAMP:20260423T100740
CREATED:20250319T170620Z
LAST-MODIFIED:20251107T185814Z
UID:10003095-1796290200-1796301000@messymoosestudio.com
SUMMARY:Drop Ins (Morning)
DESCRIPTION:
URL:https://messymoosestudio.com/event/studio-mornings-2/2026-12-03/
LOCATION:The Messy Moose Studio\, 3\, 123 - 2 Avenue W\, Cochrane\, Alberta\, Canada
ATTACH;FMTTYPE=image/png:https://messymoosestudio.com/wp-content/uploads/2024/07/Messy-Moose-SIte-Icon.png
END:VEVENT
BEGIN:VEVENT
DTSTART;TZID=America/Edmonton:20261203T133000
DTEND;TZID=America/Edmonton:20261203T190000
DTSTAMP:20260423T100740
CREATED:20241227T192805Z
LAST-MODIFIED:20250319T164448Z
UID:10007226-1796304600-1796324400@messymoosestudio.com
SUMMARY:Drop Ins (Open Late)
DESCRIPTION:
URL:https://messymoosestudio.com/event/drop-ins-open-late/2026-12-03/
LOCATION:The Messy Moose Studio\, 3\, 123 - 2 Avenue W\, Cochrane\, Alberta\, Canada
END:VEVENT
BEGIN:VEVENT
DTSTART;TZID=America/Edmonton:20261204T093000
DTEND;TZID=America/Edmonton:20261204T123000
DTSTAMP:20260423T100740
CREATED:20250319T170620Z
LAST-MODIFIED:20251107T185814Z
UID:10003096-1796376600-1796387400@messymoosestudio.com
SUMMARY:Drop Ins (Morning)
DESCRIPTION:
URL:https://messymoosestudio.com/event/studio-mornings-2/2026-12-04/
LOCATION:The Messy Moose Studio\, 3\, 123 - 2 Avenue W\, Cochrane\, Alberta\, Canada
ATTACH;FMTTYPE=image/png:https://messymoosestudio.com/wp-content/uploads/2024/07/Messy-Moose-SIte-Icon.png
END:VEVENT
BEGIN:VEVENT
DTSTART;TZID=America/Edmonton:20261204T133000
DTEND;TZID=America/Edmonton:20261204T163000
DTSTAMP:20260423T100740
CREATED:20241227T192033Z
LAST-MODIFIED:20250319T174149Z
UID:10005182-1796391000-1796401800@messymoosestudio.com
SUMMARY:Drop Ins (Afternoon)
DESCRIPTION:
URL:https://messymoosestudio.com/event/drop-ins-afternoon/2026-12-04/
LOCATION:The Messy Moose Studio\, 3\, 123 - 2 Avenue W\, Cochrane\, Alberta\, Canada
ATTACH;FMTTYPE=image/png:https://messymoosestudio.com/wp-content/uploads/2024/07/Messy-Moose-SIte-Icon.png
END:VEVENT
BEGIN:VEVENT
DTSTART;TZID=America/Edmonton:20261205T100000
DTEND;TZID=America/Edmonton:20261205T140000
DTSTAMP:20260423T100740
CREATED:20241227T192320Z
LAST-MODIFIED:20241227T193758Z
UID:10006966-1796464800-1796479200@messymoosestudio.com
SUMMARY:Drop Ins (Saturdays)
DESCRIPTION:
URL:https://messymoosestudio.com/event/drop-ins-saturdays/2026-12-05/
LOCATION:The Messy Moose Studio\, 3\, 123 - 2 Avenue W\, Cochrane\, Alberta\, Canada
ATTACH;FMTTYPE=image/png:https://messymoosestudio.com/wp-content/uploads/2024/07/Messy-Moose-SIte-Icon.png
END:VEVENT
BEGIN:VEVENT
DTSTART;VALUE=DATE:20261207
DTEND;VALUE=DATE:20261208
DTSTAMP:20260423T100740
CREATED:20240808T230316Z
LAST-MODIFIED:20240808T230556Z
UID:10002117-1796601600-1796687999@messymoosestudio.com
SUMMARY:Closed
DESCRIPTION:
URL:https://messymoosestudio.com/event/closed/2026-12-07/
LOCATION:The Messy Moose Studio\, 3\, 123 - 2 Avenue W\, Cochrane\, Alberta\, Canada
CATEGORIES:Messy Moose Events
END:VEVENT
BEGIN:VEVENT
DTSTART;TZID=America/Edmonton:20261208T093000
DTEND;TZID=America/Edmonton:20261208T123000
DTSTAMP:20260423T100740
CREATED:20250319T170620Z
LAST-MODIFIED:20251107T185814Z
UID:10003097-1796722200-1796733000@messymoosestudio.com
SUMMARY:Drop Ins (Morning)
DESCRIPTION:
URL:https://messymoosestudio.com/event/studio-mornings-2/2026-12-08/
LOCATION:The Messy Moose Studio\, 3\, 123 - 2 Avenue W\, Cochrane\, Alberta\, Canada
ATTACH;FMTTYPE=image/png:https://messymoosestudio.com/wp-content/uploads/2024/07/Messy-Moose-SIte-Icon.png
END:VEVENT
END:VCALENDAR