BEGIN:VCALENDAR
VERSION:2.0
PRODID:-//The Messy Moose Kids Art Studio - ECPv6.15.20//NONSGML v1.0//EN
CALSCALE:GREGORIAN
METHOD:PUBLISH
X-WR-CALNAME:The Messy Moose Kids Art Studio
X-ORIGINAL-URL:https://messymoosestudio.com
X-WR-CALDESC:Events for The Messy Moose Kids Art Studio
REFRESH-INTERVAL;VALUE=DURATION:PT1H
X-Robots-Tag:noindex
X-PUBLISHED-TTL:PT1H
BEGIN:VTIMEZONE
TZID:America/Edmonton
BEGIN:DAYLIGHT
TZOFFSETFROM:-0700
TZOFFSETTO:-0600
TZNAME:MDT
DTSTART:20260308T090000
END:DAYLIGHT
BEGIN:STANDARD
TZOFFSETFROM:-0600
TZOFFSETTO:-0700
TZNAME:MST
DTSTART:20261101T080000
END:STANDARD
BEGIN:DAYLIGHT
TZOFFSETFROM:-0700
TZOFFSETTO:-0600
TZNAME:MDT
DTSTART:20270314T090000
END:DAYLIGHT
BEGIN:STANDARD
TZOFFSETFROM:-0600
TZOFFSETTO:-0700
TZNAME:MST
DTSTART:20271107T080000
END:STANDARD
BEGIN:DAYLIGHT
TZOFFSETFROM:-0700
TZOFFSETTO:-0600
TZNAME:MDT
DTSTART:20280312T090000
END:DAYLIGHT
BEGIN:STANDARD
TZOFFSETFROM:-0600
TZOFFSETTO:-0700
TZNAME:MST
DTSTART:20281105T080000
END:STANDARD
END:VTIMEZONE
BEGIN:VEVENT
DTSTART;TZID=America/Edmonton:20270126T133000
DTEND;TZID=America/Edmonton:20270126T163000
DTSTAMP:20260424T144323
CREATED:20241227T192033Z
LAST-MODIFIED:20250319T174149Z
UID:10005211-1800970200-1800981000@messymoosestudio.com
SUMMARY:Drop Ins (Afternoon)
DESCRIPTION:
URL:https://messymoosestudio.com/event/drop-ins-afternoon/2027-01-26/
LOCATION:The Messy Moose Studio\, 3\, 123 - 2 Avenue W\, Cochrane\, Alberta\, Canada
ATTACH;FMTTYPE=image/png:https://messymoosestudio.com/wp-content/uploads/2024/07/Messy-Moose-SIte-Icon.png
END:VEVENT
BEGIN:VEVENT
DTSTART;TZID=America/Edmonton:20270127T093000
DTEND;TZID=America/Edmonton:20270127T123000
DTSTAMP:20260424T144323
CREATED:20250319T170620Z
LAST-MODIFIED:20251107T185814Z
UID:10003126-1801042200-1801053000@messymoosestudio.com
SUMMARY:Drop Ins (Morning)
DESCRIPTION:
URL:https://messymoosestudio.com/event/studio-mornings-2/2027-01-27/
LOCATION:The Messy Moose Studio\, 3\, 123 - 2 Avenue W\, Cochrane\, Alberta\, Canada
ATTACH;FMTTYPE=image/png:https://messymoosestudio.com/wp-content/uploads/2024/07/Messy-Moose-SIte-Icon.png
END:VEVENT
BEGIN:VEVENT
DTSTART;TZID=America/Edmonton:20270127T133000
DTEND;TZID=America/Edmonton:20270127T163000
DTSTAMP:20260424T144323
CREATED:20241227T192849Z
LAST-MODIFIED:20250327T154904Z
UID:10007494-1801056600-1801067400@messymoosestudio.com
SUMMARY:Drop Ins (Afternoons)
DESCRIPTION:
URL:https://messymoosestudio.com/event/drop-ins-quiet-sensory-afternoons/2027-01-27/
LOCATION:The Messy Moose Studio\, 3\, 123 - 2 Avenue W\, Cochrane\, Alberta\, Canada
END:VEVENT
BEGIN:VEVENT
DTSTART;TZID=America/Edmonton:20270128T093000
DTEND;TZID=America/Edmonton:20270128T123000
DTSTAMP:20260424T144323
CREATED:20250319T170620Z
LAST-MODIFIED:20251107T185814Z
UID:10003127-1801128600-1801139400@messymoosestudio.com
SUMMARY:Drop Ins (Morning)
DESCRIPTION:
URL:https://messymoosestudio.com/event/studio-mornings-2/2027-01-28/
LOCATION:The Messy Moose Studio\, 3\, 123 - 2 Avenue W\, Cochrane\, Alberta\, Canada
ATTACH;FMTTYPE=image/png:https://messymoosestudio.com/wp-content/uploads/2024/07/Messy-Moose-SIte-Icon.png
END:VEVENT
BEGIN:VEVENT
DTSTART;TZID=America/Edmonton:20270128T133000
DTEND;TZID=America/Edmonton:20270128T190000
DTSTAMP:20260424T144323
CREATED:20241227T192805Z
LAST-MODIFIED:20250319T164448Z
UID:10007234-1801143000-1801162800@messymoosestudio.com
SUMMARY:Drop Ins (Open Late)
DESCRIPTION:
URL:https://messymoosestudio.com/event/drop-ins-open-late/2027-01-28/
LOCATION:The Messy Moose Studio\, 3\, 123 - 2 Avenue W\, Cochrane\, Alberta\, Canada
END:VEVENT
BEGIN:VEVENT
DTSTART;TZID=America/Edmonton:20270129T093000
DTEND;TZID=America/Edmonton:20270129T123000
DTSTAMP:20260424T144323
CREATED:20250319T170620Z
LAST-MODIFIED:20251107T185814Z
UID:10003128-1801215000-1801225800@messymoosestudio.com
SUMMARY:Drop Ins (Morning)
DESCRIPTION:
URL:https://messymoosestudio.com/event/studio-mornings-2/2027-01-29/
LOCATION:The Messy Moose Studio\, 3\, 123 - 2 Avenue W\, Cochrane\, Alberta\, Canada
ATTACH;FMTTYPE=image/png:https://messymoosestudio.com/wp-content/uploads/2024/07/Messy-Moose-SIte-Icon.png
END:VEVENT
BEGIN:VEVENT
DTSTART;TZID=America/Edmonton:20270129T133000
DTEND;TZID=America/Edmonton:20270129T163000
DTSTAMP:20260424T144323
CREATED:20241227T192033Z
LAST-MODIFIED:20250319T174149Z
UID:10005214-1801229400-1801240200@messymoosestudio.com
SUMMARY:Drop Ins (Afternoon)
DESCRIPTION:
URL:https://messymoosestudio.com/event/drop-ins-afternoon/2027-01-29/
LOCATION:The Messy Moose Studio\, 3\, 123 - 2 Avenue W\, Cochrane\, Alberta\, Canada
ATTACH;FMTTYPE=image/png:https://messymoosestudio.com/wp-content/uploads/2024/07/Messy-Moose-SIte-Icon.png
END:VEVENT
BEGIN:VEVENT
DTSTART;TZID=America/Edmonton:20270130T100000
DTEND;TZID=America/Edmonton:20270130T140000
DTSTAMP:20260424T144323
CREATED:20241227T192320Z
LAST-MODIFIED:20241227T193758Z
UID:10006974-1801303200-1801317600@messymoosestudio.com
SUMMARY:Drop Ins (Saturdays)
DESCRIPTION:
URL:https://messymoosestudio.com/event/drop-ins-saturdays/2027-01-30/
LOCATION:The Messy Moose Studio\, 3\, 123 - 2 Avenue W\, Cochrane\, Alberta\, Canada
ATTACH;FMTTYPE=image/png:https://messymoosestudio.com/wp-content/uploads/2024/07/Messy-Moose-SIte-Icon.png
END:VEVENT
BEGIN:VEVENT
DTSTART;VALUE=DATE:20270201
DTEND;VALUE=DATE:20270202
DTSTAMP:20260424T144323
CREATED:20240808T230316Z
LAST-MODIFIED:20240808T230556Z
UID:10002125-1801440000-1801526399@messymoosestudio.com
SUMMARY:Closed
DESCRIPTION:
URL:https://messymoosestudio.com/event/closed/2027-02-01/
LOCATION:The Messy Moose Studio\, 3\, 123 - 2 Avenue W\, Cochrane\, Alberta\, Canada
CATEGORIES:Messy Moose Events
END:VEVENT
BEGIN:VEVENT
DTSTART;TZID=America/Edmonton:20270202T093000
DTEND;TZID=America/Edmonton:20270202T123000
DTSTAMP:20260424T144323
CREATED:20250319T170620Z
LAST-MODIFIED:20251107T185814Z
UID:10003129-1801560600-1801571400@messymoosestudio.com
SUMMARY:Drop Ins (Morning)
DESCRIPTION:
URL:https://messymoosestudio.com/event/studio-mornings-2/2027-02-02/
LOCATION:The Messy Moose Studio\, 3\, 123 - 2 Avenue W\, Cochrane\, Alberta\, Canada
ATTACH;FMTTYPE=image/png:https://messymoosestudio.com/wp-content/uploads/2024/07/Messy-Moose-SIte-Icon.png
END:VEVENT
BEGIN:VEVENT
DTSTART;TZID=America/Edmonton:20270202T133000
DTEND;TZID=America/Edmonton:20270202T163000
DTSTAMP:20260424T144323
CREATED:20241227T192033Z
LAST-MODIFIED:20250319T174149Z
UID:10005215-1801575000-1801585800@messymoosestudio.com
SUMMARY:Drop Ins (Afternoon)
DESCRIPTION:
URL:https://messymoosestudio.com/event/drop-ins-afternoon/2027-02-02/
LOCATION:The Messy Moose Studio\, 3\, 123 - 2 Avenue W\, Cochrane\, Alberta\, Canada
ATTACH;FMTTYPE=image/png:https://messymoosestudio.com/wp-content/uploads/2024/07/Messy-Moose-SIte-Icon.png
END:VEVENT
BEGIN:VEVENT
DTSTART;TZID=America/Edmonton:20270203T093000
DTEND;TZID=America/Edmonton:20270203T123000
DTSTAMP:20260424T144323
CREATED:20250319T170620Z
LAST-MODIFIED:20251107T185814Z
UID:10003130-1801647000-1801657800@messymoosestudio.com
SUMMARY:Drop Ins (Morning)
DESCRIPTION:
URL:https://messymoosestudio.com/event/studio-mornings-2/2027-02-03/
LOCATION:The Messy Moose Studio\, 3\, 123 - 2 Avenue W\, Cochrane\, Alberta\, Canada
ATTACH;FMTTYPE=image/png:https://messymoosestudio.com/wp-content/uploads/2024/07/Messy-Moose-SIte-Icon.png
END:VEVENT
BEGIN:VEVENT
DTSTART;TZID=America/Edmonton:20270203T133000
DTEND;TZID=America/Edmonton:20270203T163000
DTSTAMP:20260424T144323
CREATED:20241227T192849Z
LAST-MODIFIED:20250327T154904Z
UID:10007495-1801661400-1801672200@messymoosestudio.com
SUMMARY:Drop Ins (Afternoons)
DESCRIPTION:
URL:https://messymoosestudio.com/event/drop-ins-quiet-sensory-afternoons/2027-02-03/
LOCATION:The Messy Moose Studio\, 3\, 123 - 2 Avenue W\, Cochrane\, Alberta\, Canada
END:VEVENT
BEGIN:VEVENT
DTSTART;TZID=America/Edmonton:20270204T093000
DTEND;TZID=America/Edmonton:20270204T123000
DTSTAMP:20260424T144323
CREATED:20250319T170620Z
LAST-MODIFIED:20251107T185814Z
UID:10003131-1801733400-1801744200@messymoosestudio.com
SUMMARY:Drop Ins (Morning)
DESCRIPTION:
URL:https://messymoosestudio.com/event/studio-mornings-2/2027-02-04/
LOCATION:The Messy Moose Studio\, 3\, 123 - 2 Avenue W\, Cochrane\, Alberta\, Canada
ATTACH;FMTTYPE=image/png:https://messymoosestudio.com/wp-content/uploads/2024/07/Messy-Moose-SIte-Icon.png
END:VEVENT
BEGIN:VEVENT
DTSTART;TZID=America/Edmonton:20270204T133000
DTEND;TZID=America/Edmonton:20270204T190000
DTSTAMP:20260424T144323
CREATED:20241227T192805Z
LAST-MODIFIED:20250319T164448Z
UID:10007235-1801747800-1801767600@messymoosestudio.com
SUMMARY:Drop Ins (Open Late)
DESCRIPTION:
URL:https://messymoosestudio.com/event/drop-ins-open-late/2027-02-04/
LOCATION:The Messy Moose Studio\, 3\, 123 - 2 Avenue W\, Cochrane\, Alberta\, Canada
END:VEVENT
BEGIN:VEVENT
DTSTART;TZID=America/Edmonton:20270205T093000
DTEND;TZID=America/Edmonton:20270205T123000
DTSTAMP:20260424T144323
CREATED:20250319T170620Z
LAST-MODIFIED:20251107T185814Z
UID:10003132-1801819800-1801830600@messymoosestudio.com
SUMMARY:Drop Ins (Morning)
DESCRIPTION:
URL:https://messymoosestudio.com/event/studio-mornings-2/2027-02-05/
LOCATION:The Messy Moose Studio\, 3\, 123 - 2 Avenue W\, Cochrane\, Alberta\, Canada
ATTACH;FMTTYPE=image/png:https://messymoosestudio.com/wp-content/uploads/2024/07/Messy-Moose-SIte-Icon.png
END:VEVENT
BEGIN:VEVENT
DTSTART;TZID=America/Edmonton:20270205T133000
DTEND;TZID=America/Edmonton:20270205T163000
DTSTAMP:20260424T144323
CREATED:20241227T192033Z
LAST-MODIFIED:20250319T174149Z
UID:10005218-1801834200-1801845000@messymoosestudio.com
SUMMARY:Drop Ins (Afternoon)
DESCRIPTION:
URL:https://messymoosestudio.com/event/drop-ins-afternoon/2027-02-05/
LOCATION:The Messy Moose Studio\, 3\, 123 - 2 Avenue W\, Cochrane\, Alberta\, Canada
ATTACH;FMTTYPE=image/png:https://messymoosestudio.com/wp-content/uploads/2024/07/Messy-Moose-SIte-Icon.png
END:VEVENT
BEGIN:VEVENT
DTSTART;TZID=America/Edmonton:20270206T100000
DTEND;TZID=America/Edmonton:20270206T140000
DTSTAMP:20260424T144323
CREATED:20241227T192320Z
LAST-MODIFIED:20241227T193758Z
UID:10006975-1801908000-1801922400@messymoosestudio.com
SUMMARY:Drop Ins (Saturdays)
DESCRIPTION:
URL:https://messymoosestudio.com/event/drop-ins-saturdays/2027-02-06/
LOCATION:The Messy Moose Studio\, 3\, 123 - 2 Avenue W\, Cochrane\, Alberta\, Canada
ATTACH;FMTTYPE=image/png:https://messymoosestudio.com/wp-content/uploads/2024/07/Messy-Moose-SIte-Icon.png
END:VEVENT
BEGIN:VEVENT
DTSTART;VALUE=DATE:20270208
DTEND;VALUE=DATE:20270209
DTSTAMP:20260424T144323
CREATED:20240808T230316Z
LAST-MODIFIED:20240808T230556Z
UID:10002126-1802044800-1802131199@messymoosestudio.com
SUMMARY:Closed
DESCRIPTION:
URL:https://messymoosestudio.com/event/closed/2027-02-08/
LOCATION:The Messy Moose Studio\, 3\, 123 - 2 Avenue W\, Cochrane\, Alberta\, Canada
CATEGORIES:Messy Moose Events
END:VEVENT
BEGIN:VEVENT
DTSTART;TZID=America/Edmonton:20270209T093000
DTEND;TZID=America/Edmonton:20270209T123000
DTSTAMP:20260424T144323
CREATED:20250319T170620Z
LAST-MODIFIED:20251107T185814Z
UID:10003133-1802165400-1802176200@messymoosestudio.com
SUMMARY:Drop Ins (Morning)
DESCRIPTION:
URL:https://messymoosestudio.com/event/studio-mornings-2/2027-02-09/
LOCATION:The Messy Moose Studio\, 3\, 123 - 2 Avenue W\, Cochrane\, Alberta\, Canada
ATTACH;FMTTYPE=image/png:https://messymoosestudio.com/wp-content/uploads/2024/07/Messy-Moose-SIte-Icon.png
END:VEVENT
BEGIN:VEVENT
DTSTART;TZID=America/Edmonton:20270209T133000
DTEND;TZID=America/Edmonton:20270209T163000
DTSTAMP:20260424T144323
CREATED:20241227T192033Z
LAST-MODIFIED:20250319T174149Z
UID:10005219-1802179800-1802190600@messymoosestudio.com
SUMMARY:Drop Ins (Afternoon)
DESCRIPTION:
URL:https://messymoosestudio.com/event/drop-ins-afternoon/2027-02-09/
LOCATION:The Messy Moose Studio\, 3\, 123 - 2 Avenue W\, Cochrane\, Alberta\, Canada
ATTACH;FMTTYPE=image/png:https://messymoosestudio.com/wp-content/uploads/2024/07/Messy-Moose-SIte-Icon.png
END:VEVENT
BEGIN:VEVENT
DTSTART;TZID=America/Edmonton:20270210T093000
DTEND;TZID=America/Edmonton:20270210T123000
DTSTAMP:20260424T144323
CREATED:20250319T170620Z
LAST-MODIFIED:20251107T185814Z
UID:10003134-1802251800-1802262600@messymoosestudio.com
SUMMARY:Drop Ins (Morning)
DESCRIPTION:
URL:https://messymoosestudio.com/event/studio-mornings-2/2027-02-10/
LOCATION:The Messy Moose Studio\, 3\, 123 - 2 Avenue W\, Cochrane\, Alberta\, Canada
ATTACH;FMTTYPE=image/png:https://messymoosestudio.com/wp-content/uploads/2024/07/Messy-Moose-SIte-Icon.png
END:VEVENT
BEGIN:VEVENT
DTSTART;TZID=America/Edmonton:20270210T133000
DTEND;TZID=America/Edmonton:20270210T163000
DTSTAMP:20260424T144323
CREATED:20241227T192849Z
LAST-MODIFIED:20250327T154904Z
UID:10007496-1802266200-1802277000@messymoosestudio.com
SUMMARY:Drop Ins (Afternoons)
DESCRIPTION:
URL:https://messymoosestudio.com/event/drop-ins-quiet-sensory-afternoons/2027-02-10/
LOCATION:The Messy Moose Studio\, 3\, 123 - 2 Avenue W\, Cochrane\, Alberta\, Canada
END:VEVENT
BEGIN:VEVENT
DTSTART;TZID=America/Edmonton:20270211T093000
DTEND;TZID=America/Edmonton:20270211T123000
DTSTAMP:20260424T144323
CREATED:20250319T170620Z
LAST-MODIFIED:20251107T185814Z
UID:10003135-1802338200-1802349000@messymoosestudio.com
SUMMARY:Drop Ins (Morning)
DESCRIPTION:
URL:https://messymoosestudio.com/event/studio-mornings-2/2027-02-11/
LOCATION:The Messy Moose Studio\, 3\, 123 - 2 Avenue W\, Cochrane\, Alberta\, Canada
ATTACH;FMTTYPE=image/png:https://messymoosestudio.com/wp-content/uploads/2024/07/Messy-Moose-SIte-Icon.png
END:VEVENT
BEGIN:VEVENT
DTSTART;TZID=America/Edmonton:20270211T133000
DTEND;TZID=America/Edmonton:20270211T190000
DTSTAMP:20260424T144323
CREATED:20241227T192805Z
LAST-MODIFIED:20250319T164448Z
UID:10007236-1802352600-1802372400@messymoosestudio.com
SUMMARY:Drop Ins (Open Late)
DESCRIPTION:
URL:https://messymoosestudio.com/event/drop-ins-open-late/2027-02-11/
LOCATION:The Messy Moose Studio\, 3\, 123 - 2 Avenue W\, Cochrane\, Alberta\, Canada
END:VEVENT
BEGIN:VEVENT
DTSTART;TZID=America/Edmonton:20270212T093000
DTEND;TZID=America/Edmonton:20270212T123000
DTSTAMP:20260424T144323
CREATED:20250319T170620Z
LAST-MODIFIED:20251107T185814Z
UID:10003136-1802424600-1802435400@messymoosestudio.com
SUMMARY:Drop Ins (Morning)
DESCRIPTION:
URL:https://messymoosestudio.com/event/studio-mornings-2/2027-02-12/
LOCATION:The Messy Moose Studio\, 3\, 123 - 2 Avenue W\, Cochrane\, Alberta\, Canada
ATTACH;FMTTYPE=image/png:https://messymoosestudio.com/wp-content/uploads/2024/07/Messy-Moose-SIte-Icon.png
END:VEVENT
BEGIN:VEVENT
DTSTART;TZID=America/Edmonton:20270212T133000
DTEND;TZID=America/Edmonton:20270212T163000
DTSTAMP:20260424T144323
CREATED:20241227T192033Z
LAST-MODIFIED:20250319T174149Z
UID:10005222-1802439000-1802449800@messymoosestudio.com
SUMMARY:Drop Ins (Afternoon)
DESCRIPTION:
URL:https://messymoosestudio.com/event/drop-ins-afternoon/2027-02-12/
LOCATION:The Messy Moose Studio\, 3\, 123 - 2 Avenue W\, Cochrane\, Alberta\, Canada
ATTACH;FMTTYPE=image/png:https://messymoosestudio.com/wp-content/uploads/2024/07/Messy-Moose-SIte-Icon.png
END:VEVENT
BEGIN:VEVENT
DTSTART;TZID=America/Edmonton:20270213T100000
DTEND;TZID=America/Edmonton:20270213T140000
DTSTAMP:20260424T144323
CREATED:20241227T192320Z
LAST-MODIFIED:20241227T193758Z
UID:10006976-1802512800-1802527200@messymoosestudio.com
SUMMARY:Drop Ins (Saturdays)
DESCRIPTION:
URL:https://messymoosestudio.com/event/drop-ins-saturdays/2027-02-13/
LOCATION:The Messy Moose Studio\, 3\, 123 - 2 Avenue W\, Cochrane\, Alberta\, Canada
ATTACH;FMTTYPE=image/png:https://messymoosestudio.com/wp-content/uploads/2024/07/Messy-Moose-SIte-Icon.png
END:VEVENT
BEGIN:VEVENT
DTSTART;VALUE=DATE:20270215
DTEND;VALUE=DATE:20270216
DTSTAMP:20260424T144323
CREATED:20240808T230316Z
LAST-MODIFIED:20240808T230556Z
UID:10002127-1802649600-1802735999@messymoosestudio.com
SUMMARY:Closed
DESCRIPTION:
URL:https://messymoosestudio.com/event/closed/2027-02-15/
LOCATION:The Messy Moose Studio\, 3\, 123 - 2 Avenue W\, Cochrane\, Alberta\, Canada
CATEGORIES:Messy Moose Events
END:VEVENT
BEGIN:VEVENT
DTSTART;TZID=America/Edmonton:20270216T093000
DTEND;TZID=America/Edmonton:20270216T123000
DTSTAMP:20260424T144323
CREATED:20250319T170620Z
LAST-MODIFIED:20251107T185814Z
UID:10003137-1802770200-1802781000@messymoosestudio.com
SUMMARY:Drop Ins (Morning)
DESCRIPTION:
URL:https://messymoosestudio.com/event/studio-mornings-2/2027-02-16/
LOCATION:The Messy Moose Studio\, 3\, 123 - 2 Avenue W\, Cochrane\, Alberta\, Canada
ATTACH;FMTTYPE=image/png:https://messymoosestudio.com/wp-content/uploads/2024/07/Messy-Moose-SIte-Icon.png
END:VEVENT
END:VCALENDAR