BEGIN:VCALENDAR
VERSION:2.0
PRODID:-//The Messy Moose Kids Art Studio - ECPv6.15.20//NONSGML v1.0//EN
CALSCALE:GREGORIAN
METHOD:PUBLISH
X-WR-CALNAME:The Messy Moose Kids Art Studio
X-ORIGINAL-URL:https://messymoosestudio.com
X-WR-CALDESC:Events for The Messy Moose Kids Art Studio
REFRESH-INTERVAL;VALUE=DURATION:PT1H
X-Robots-Tag:noindex
X-PUBLISHED-TTL:PT1H
BEGIN:VTIMEZONE
TZID:America/Edmonton
BEGIN:DAYLIGHT
TZOFFSETFROM:-0700
TZOFFSETTO:-0600
TZNAME:MDT
DTSTART:20260308T090000
END:DAYLIGHT
BEGIN:STANDARD
TZOFFSETFROM:-0600
TZOFFSETTO:-0700
TZNAME:MST
DTSTART:20261101T080000
END:STANDARD
BEGIN:DAYLIGHT
TZOFFSETFROM:-0700
TZOFFSETTO:-0600
TZNAME:MDT
DTSTART:20270314T090000
END:DAYLIGHT
BEGIN:STANDARD
TZOFFSETFROM:-0600
TZOFFSETTO:-0700
TZNAME:MST
DTSTART:20271107T080000
END:STANDARD
BEGIN:DAYLIGHT
TZOFFSETFROM:-0700
TZOFFSETTO:-0600
TZNAME:MDT
DTSTART:20280312T090000
END:DAYLIGHT
BEGIN:STANDARD
TZOFFSETFROM:-0600
TZOFFSETTO:-0700
TZNAME:MST
DTSTART:20281105T080000
END:STANDARD
END:VTIMEZONE
BEGIN:VEVENT
DTSTART;TZID=America/Edmonton:20270507T093000
DTEND;TZID=America/Edmonton:20270507T123000
DTSTAMP:20260425T090625
CREATED:20250319T170620Z
LAST-MODIFIED:20251107T185814Z
UID:10003184-1809682200-1809693000@messymoosestudio.com
SUMMARY:Drop Ins (Morning)
DESCRIPTION:
URL:https://messymoosestudio.com/event/studio-mornings-2/2027-05-07/
LOCATION:The Messy Moose Studio\, 3\, 123 - 2 Avenue W\, Cochrane\, Alberta\, Canada
ATTACH;FMTTYPE=image/png:https://messymoosestudio.com/wp-content/uploads/2024/07/Messy-Moose-SIte-Icon.png
END:VEVENT
BEGIN:VEVENT
DTSTART;TZID=America/Edmonton:20270507T133000
DTEND;TZID=America/Edmonton:20270507T163000
DTSTAMP:20260425T090625
CREATED:20241227T192033Z
LAST-MODIFIED:20250319T174149Z
UID:10005270-1809696600-1809707400@messymoosestudio.com
SUMMARY:Drop Ins (Afternoon)
DESCRIPTION:
URL:https://messymoosestudio.com/event/drop-ins-afternoon/2027-05-07/
LOCATION:The Messy Moose Studio\, 3\, 123 - 2 Avenue W\, Cochrane\, Alberta\, Canada
ATTACH;FMTTYPE=image/png:https://messymoosestudio.com/wp-content/uploads/2024/07/Messy-Moose-SIte-Icon.png
END:VEVENT
BEGIN:VEVENT
DTSTART;TZID=America/Edmonton:20270508T100000
DTEND;TZID=America/Edmonton:20270508T140000
DTSTAMP:20260425T090625
CREATED:20241227T192320Z
LAST-MODIFIED:20241227T193758Z
UID:10006988-1809770400-1809784800@messymoosestudio.com
SUMMARY:Drop Ins (Saturdays)
DESCRIPTION:
URL:https://messymoosestudio.com/event/drop-ins-saturdays/2027-05-08/
LOCATION:The Messy Moose Studio\, 3\, 123 - 2 Avenue W\, Cochrane\, Alberta\, Canada
ATTACH;FMTTYPE=image/png:https://messymoosestudio.com/wp-content/uploads/2024/07/Messy-Moose-SIte-Icon.png
END:VEVENT
BEGIN:VEVENT
DTSTART;VALUE=DATE:20270510
DTEND;VALUE=DATE:20270511
DTSTAMP:20260425T090625
CREATED:20240808T230316Z
LAST-MODIFIED:20240808T230556Z
UID:10002139-1809907200-1809993599@messymoosestudio.com
SUMMARY:Closed
DESCRIPTION:
URL:https://messymoosestudio.com/event/closed/2027-05-10/
LOCATION:The Messy Moose Studio\, 3\, 123 - 2 Avenue W\, Cochrane\, Alberta\, Canada
CATEGORIES:Messy Moose Events
END:VEVENT
BEGIN:VEVENT
DTSTART;TZID=America/Edmonton:20270511T093000
DTEND;TZID=America/Edmonton:20270511T123000
DTSTAMP:20260425T090625
CREATED:20250319T170620Z
LAST-MODIFIED:20251107T185814Z
UID:10003185-1810027800-1810038600@messymoosestudio.com
SUMMARY:Drop Ins (Morning)
DESCRIPTION:
URL:https://messymoosestudio.com/event/studio-mornings-2/2027-05-11/
LOCATION:The Messy Moose Studio\, 3\, 123 - 2 Avenue W\, Cochrane\, Alberta\, Canada
ATTACH;FMTTYPE=image/png:https://messymoosestudio.com/wp-content/uploads/2024/07/Messy-Moose-SIte-Icon.png
END:VEVENT
BEGIN:VEVENT
DTSTART;TZID=America/Edmonton:20270511T133000
DTEND;TZID=America/Edmonton:20270511T163000
DTSTAMP:20260425T090625
CREATED:20241227T192033Z
LAST-MODIFIED:20250319T174149Z
UID:10005271-1810042200-1810053000@messymoosestudio.com
SUMMARY:Drop Ins (Afternoon)
DESCRIPTION:
URL:https://messymoosestudio.com/event/drop-ins-afternoon/2027-05-11/
LOCATION:The Messy Moose Studio\, 3\, 123 - 2 Avenue W\, Cochrane\, Alberta\, Canada
ATTACH;FMTTYPE=image/png:https://messymoosestudio.com/wp-content/uploads/2024/07/Messy-Moose-SIte-Icon.png
END:VEVENT
BEGIN:VEVENT
DTSTART;TZID=America/Edmonton:20270512T093000
DTEND;TZID=America/Edmonton:20270512T123000
DTSTAMP:20260425T090625
CREATED:20250319T170620Z
LAST-MODIFIED:20251107T185814Z
UID:10003186-1810114200-1810125000@messymoosestudio.com
SUMMARY:Drop Ins (Morning)
DESCRIPTION:
URL:https://messymoosestudio.com/event/studio-mornings-2/2027-05-12/
LOCATION:The Messy Moose Studio\, 3\, 123 - 2 Avenue W\, Cochrane\, Alberta\, Canada
ATTACH;FMTTYPE=image/png:https://messymoosestudio.com/wp-content/uploads/2024/07/Messy-Moose-SIte-Icon.png
END:VEVENT
BEGIN:VEVENT
DTSTART;TZID=America/Edmonton:20270512T133000
DTEND;TZID=America/Edmonton:20270512T163000
DTSTAMP:20260425T090625
CREATED:20241227T192849Z
LAST-MODIFIED:20250327T154904Z
UID:10007509-1810128600-1810139400@messymoosestudio.com
SUMMARY:Drop Ins (Afternoons)
DESCRIPTION:
URL:https://messymoosestudio.com/event/drop-ins-quiet-sensory-afternoons/2027-05-12/
LOCATION:The Messy Moose Studio\, 3\, 123 - 2 Avenue W\, Cochrane\, Alberta\, Canada
END:VEVENT
BEGIN:VEVENT
DTSTART;TZID=America/Edmonton:20270513T093000
DTEND;TZID=America/Edmonton:20270513T123000
DTSTAMP:20260425T090625
CREATED:20250319T170620Z
LAST-MODIFIED:20251107T185814Z
UID:10003187-1810200600-1810211400@messymoosestudio.com
SUMMARY:Drop Ins (Morning)
DESCRIPTION:
URL:https://messymoosestudio.com/event/studio-mornings-2/2027-05-13/
LOCATION:The Messy Moose Studio\, 3\, 123 - 2 Avenue W\, Cochrane\, Alberta\, Canada
ATTACH;FMTTYPE=image/png:https://messymoosestudio.com/wp-content/uploads/2024/07/Messy-Moose-SIte-Icon.png
END:VEVENT
BEGIN:VEVENT
DTSTART;TZID=America/Edmonton:20270513T133000
DTEND;TZID=America/Edmonton:20270513T190000
DTSTAMP:20260425T090625
CREATED:20241227T192805Z
LAST-MODIFIED:20250319T164448Z
UID:10007249-1810215000-1810234800@messymoosestudio.com
SUMMARY:Drop Ins (Open Late)
DESCRIPTION:
URL:https://messymoosestudio.com/event/drop-ins-open-late/2027-05-13/
LOCATION:The Messy Moose Studio\, 3\, 123 - 2 Avenue W\, Cochrane\, Alberta\, Canada
END:VEVENT
BEGIN:VEVENT
DTSTART;TZID=America/Edmonton:20270514T093000
DTEND;TZID=America/Edmonton:20270514T123000
DTSTAMP:20260425T090625
CREATED:20250319T170620Z
LAST-MODIFIED:20251107T185814Z
UID:10003188-1810287000-1810297800@messymoosestudio.com
SUMMARY:Drop Ins (Morning)
DESCRIPTION:
URL:https://messymoosestudio.com/event/studio-mornings-2/2027-05-14/
LOCATION:The Messy Moose Studio\, 3\, 123 - 2 Avenue W\, Cochrane\, Alberta\, Canada
ATTACH;FMTTYPE=image/png:https://messymoosestudio.com/wp-content/uploads/2024/07/Messy-Moose-SIte-Icon.png
END:VEVENT
BEGIN:VEVENT
DTSTART;TZID=America/Edmonton:20270514T133000
DTEND;TZID=America/Edmonton:20270514T163000
DTSTAMP:20260425T090625
CREATED:20241227T192033Z
LAST-MODIFIED:20250319T174149Z
UID:10005274-1810301400-1810312200@messymoosestudio.com
SUMMARY:Drop Ins (Afternoon)
DESCRIPTION:
URL:https://messymoosestudio.com/event/drop-ins-afternoon/2027-05-14/
LOCATION:The Messy Moose Studio\, 3\, 123 - 2 Avenue W\, Cochrane\, Alberta\, Canada
ATTACH;FMTTYPE=image/png:https://messymoosestudio.com/wp-content/uploads/2024/07/Messy-Moose-SIte-Icon.png
END:VEVENT
BEGIN:VEVENT
DTSTART;TZID=America/Edmonton:20270515T100000
DTEND;TZID=America/Edmonton:20270515T140000
DTSTAMP:20260425T090625
CREATED:20241227T192320Z
LAST-MODIFIED:20241227T193758Z
UID:10006989-1810375200-1810389600@messymoosestudio.com
SUMMARY:Drop Ins (Saturdays)
DESCRIPTION:
URL:https://messymoosestudio.com/event/drop-ins-saturdays/2027-05-15/
LOCATION:The Messy Moose Studio\, 3\, 123 - 2 Avenue W\, Cochrane\, Alberta\, Canada
ATTACH;FMTTYPE=image/png:https://messymoosestudio.com/wp-content/uploads/2024/07/Messy-Moose-SIte-Icon.png
END:VEVENT
BEGIN:VEVENT
DTSTART;VALUE=DATE:20270517
DTEND;VALUE=DATE:20270518
DTSTAMP:20260425T090625
CREATED:20240808T230316Z
LAST-MODIFIED:20240808T230556Z
UID:10002140-1810512000-1810598399@messymoosestudio.com
SUMMARY:Closed
DESCRIPTION:
URL:https://messymoosestudio.com/event/closed/2027-05-17/
LOCATION:The Messy Moose Studio\, 3\, 123 - 2 Avenue W\, Cochrane\, Alberta\, Canada
CATEGORIES:Messy Moose Events
END:VEVENT
BEGIN:VEVENT
DTSTART;TZID=America/Edmonton:20270518T093000
DTEND;TZID=America/Edmonton:20270518T123000
DTSTAMP:20260425T090625
CREATED:20250319T170620Z
LAST-MODIFIED:20251107T185814Z
UID:10003189-1810632600-1810643400@messymoosestudio.com
SUMMARY:Drop Ins (Morning)
DESCRIPTION:
URL:https://messymoosestudio.com/event/studio-mornings-2/2027-05-18/
LOCATION:The Messy Moose Studio\, 3\, 123 - 2 Avenue W\, Cochrane\, Alberta\, Canada
ATTACH;FMTTYPE=image/png:https://messymoosestudio.com/wp-content/uploads/2024/07/Messy-Moose-SIte-Icon.png
END:VEVENT
BEGIN:VEVENT
DTSTART;TZID=America/Edmonton:20270518T133000
DTEND;TZID=America/Edmonton:20270518T163000
DTSTAMP:20260425T090625
CREATED:20241227T192033Z
LAST-MODIFIED:20250319T174149Z
UID:10005275-1810647000-1810657800@messymoosestudio.com
SUMMARY:Drop Ins (Afternoon)
DESCRIPTION:
URL:https://messymoosestudio.com/event/drop-ins-afternoon/2027-05-18/
LOCATION:The Messy Moose Studio\, 3\, 123 - 2 Avenue W\, Cochrane\, Alberta\, Canada
ATTACH;FMTTYPE=image/png:https://messymoosestudio.com/wp-content/uploads/2024/07/Messy-Moose-SIte-Icon.png
END:VEVENT
BEGIN:VEVENT
DTSTART;TZID=America/Edmonton:20270519T093000
DTEND;TZID=America/Edmonton:20270519T123000
DTSTAMP:20260425T090625
CREATED:20250319T170620Z
LAST-MODIFIED:20251107T185814Z
UID:10003190-1810719000-1810729800@messymoosestudio.com
SUMMARY:Drop Ins (Morning)
DESCRIPTION:
URL:https://messymoosestudio.com/event/studio-mornings-2/2027-05-19/
LOCATION:The Messy Moose Studio\, 3\, 123 - 2 Avenue W\, Cochrane\, Alberta\, Canada
ATTACH;FMTTYPE=image/png:https://messymoosestudio.com/wp-content/uploads/2024/07/Messy-Moose-SIte-Icon.png
END:VEVENT
BEGIN:VEVENT
DTSTART;TZID=America/Edmonton:20270519T133000
DTEND;TZID=America/Edmonton:20270519T163000
DTSTAMP:20260425T090625
CREATED:20241227T192849Z
LAST-MODIFIED:20250327T154904Z
UID:10007510-1810733400-1810744200@messymoosestudio.com
SUMMARY:Drop Ins (Afternoons)
DESCRIPTION:
URL:https://messymoosestudio.com/event/drop-ins-quiet-sensory-afternoons/2027-05-19/
LOCATION:The Messy Moose Studio\, 3\, 123 - 2 Avenue W\, Cochrane\, Alberta\, Canada
END:VEVENT
BEGIN:VEVENT
DTSTART;TZID=America/Edmonton:20270520T093000
DTEND;TZID=America/Edmonton:20270520T123000
DTSTAMP:20260425T090625
CREATED:20250319T170620Z
LAST-MODIFIED:20251107T185814Z
UID:10003191-1810805400-1810816200@messymoosestudio.com
SUMMARY:Drop Ins (Morning)
DESCRIPTION:
URL:https://messymoosestudio.com/event/studio-mornings-2/2027-05-20/
LOCATION:The Messy Moose Studio\, 3\, 123 - 2 Avenue W\, Cochrane\, Alberta\, Canada
ATTACH;FMTTYPE=image/png:https://messymoosestudio.com/wp-content/uploads/2024/07/Messy-Moose-SIte-Icon.png
END:VEVENT
BEGIN:VEVENT
DTSTART;TZID=America/Edmonton:20270520T133000
DTEND;TZID=America/Edmonton:20270520T190000
DTSTAMP:20260425T090625
CREATED:20241227T192805Z
LAST-MODIFIED:20250319T164448Z
UID:10007250-1810819800-1810839600@messymoosestudio.com
SUMMARY:Drop Ins (Open Late)
DESCRIPTION:
URL:https://messymoosestudio.com/event/drop-ins-open-late/2027-05-20/
LOCATION:The Messy Moose Studio\, 3\, 123 - 2 Avenue W\, Cochrane\, Alberta\, Canada
END:VEVENT
BEGIN:VEVENT
DTSTART;TZID=America/Edmonton:20270521T093000
DTEND;TZID=America/Edmonton:20270521T123000
DTSTAMP:20260425T090625
CREATED:20250319T170620Z
LAST-MODIFIED:20251107T185814Z
UID:10003192-1810891800-1810902600@messymoosestudio.com
SUMMARY:Drop Ins (Morning)
DESCRIPTION:
URL:https://messymoosestudio.com/event/studio-mornings-2/2027-05-21/
LOCATION:The Messy Moose Studio\, 3\, 123 - 2 Avenue W\, Cochrane\, Alberta\, Canada
ATTACH;FMTTYPE=image/png:https://messymoosestudio.com/wp-content/uploads/2024/07/Messy-Moose-SIte-Icon.png
END:VEVENT
BEGIN:VEVENT
DTSTART;TZID=America/Edmonton:20270521T133000
DTEND;TZID=America/Edmonton:20270521T163000
DTSTAMP:20260425T090625
CREATED:20241227T192033Z
LAST-MODIFIED:20250319T174149Z
UID:10005278-1810906200-1810917000@messymoosestudio.com
SUMMARY:Drop Ins (Afternoon)
DESCRIPTION:
URL:https://messymoosestudio.com/event/drop-ins-afternoon/2027-05-21/
LOCATION:The Messy Moose Studio\, 3\, 123 - 2 Avenue W\, Cochrane\, Alberta\, Canada
ATTACH;FMTTYPE=image/png:https://messymoosestudio.com/wp-content/uploads/2024/07/Messy-Moose-SIte-Icon.png
END:VEVENT
BEGIN:VEVENT
DTSTART;TZID=America/Edmonton:20270522T100000
DTEND;TZID=America/Edmonton:20270522T140000
DTSTAMP:20260425T090625
CREATED:20241227T192320Z
LAST-MODIFIED:20241227T193758Z
UID:10006990-1810980000-1810994400@messymoosestudio.com
SUMMARY:Drop Ins (Saturdays)
DESCRIPTION:
URL:https://messymoosestudio.com/event/drop-ins-saturdays/2027-05-22/
LOCATION:The Messy Moose Studio\, 3\, 123 - 2 Avenue W\, Cochrane\, Alberta\, Canada
ATTACH;FMTTYPE=image/png:https://messymoosestudio.com/wp-content/uploads/2024/07/Messy-Moose-SIte-Icon.png
END:VEVENT
BEGIN:VEVENT
DTSTART;VALUE=DATE:20270524
DTEND;VALUE=DATE:20270525
DTSTAMP:20260425T090625
CREATED:20240808T230316Z
LAST-MODIFIED:20240808T230556Z
UID:10002141-1811116800-1811203199@messymoosestudio.com
SUMMARY:Closed
DESCRIPTION:
URL:https://messymoosestudio.com/event/closed/2027-05-24/
LOCATION:The Messy Moose Studio\, 3\, 123 - 2 Avenue W\, Cochrane\, Alberta\, Canada
CATEGORIES:Messy Moose Events
END:VEVENT
BEGIN:VEVENT
DTSTART;TZID=America/Edmonton:20270525T093000
DTEND;TZID=America/Edmonton:20270525T123000
DTSTAMP:20260425T090625
CREATED:20250319T170620Z
LAST-MODIFIED:20251107T185814Z
UID:10003193-1811237400-1811248200@messymoosestudio.com
SUMMARY:Drop Ins (Morning)
DESCRIPTION:
URL:https://messymoosestudio.com/event/studio-mornings-2/2027-05-25/
LOCATION:The Messy Moose Studio\, 3\, 123 - 2 Avenue W\, Cochrane\, Alberta\, Canada
ATTACH;FMTTYPE=image/png:https://messymoosestudio.com/wp-content/uploads/2024/07/Messy-Moose-SIte-Icon.png
END:VEVENT
BEGIN:VEVENT
DTSTART;TZID=America/Edmonton:20270525T133000
DTEND;TZID=America/Edmonton:20270525T163000
DTSTAMP:20260425T090625
CREATED:20241227T192033Z
LAST-MODIFIED:20250319T174149Z
UID:10005279-1811251800-1811262600@messymoosestudio.com
SUMMARY:Drop Ins (Afternoon)
DESCRIPTION:
URL:https://messymoosestudio.com/event/drop-ins-afternoon/2027-05-25/
LOCATION:The Messy Moose Studio\, 3\, 123 - 2 Avenue W\, Cochrane\, Alberta\, Canada
ATTACH;FMTTYPE=image/png:https://messymoosestudio.com/wp-content/uploads/2024/07/Messy-Moose-SIte-Icon.png
END:VEVENT
BEGIN:VEVENT
DTSTART;TZID=America/Edmonton:20270526T093000
DTEND;TZID=America/Edmonton:20270526T123000
DTSTAMP:20260425T090625
CREATED:20250319T170620Z
LAST-MODIFIED:20251107T185814Z
UID:10003194-1811323800-1811334600@messymoosestudio.com
SUMMARY:Drop Ins (Morning)
DESCRIPTION:
URL:https://messymoosestudio.com/event/studio-mornings-2/2027-05-26/
LOCATION:The Messy Moose Studio\, 3\, 123 - 2 Avenue W\, Cochrane\, Alberta\, Canada
ATTACH;FMTTYPE=image/png:https://messymoosestudio.com/wp-content/uploads/2024/07/Messy-Moose-SIte-Icon.png
END:VEVENT
BEGIN:VEVENT
DTSTART;TZID=America/Edmonton:20270526T133000
DTEND;TZID=America/Edmonton:20270526T163000
DTSTAMP:20260425T090625
CREATED:20241227T192849Z
LAST-MODIFIED:20250327T154904Z
UID:10007511-1811338200-1811349000@messymoosestudio.com
SUMMARY:Drop Ins (Afternoons)
DESCRIPTION:
URL:https://messymoosestudio.com/event/drop-ins-quiet-sensory-afternoons/2027-05-26/
LOCATION:The Messy Moose Studio\, 3\, 123 - 2 Avenue W\, Cochrane\, Alberta\, Canada
END:VEVENT
BEGIN:VEVENT
DTSTART;TZID=America/Edmonton:20270527T093000
DTEND;TZID=America/Edmonton:20270527T123000
DTSTAMP:20260425T090625
CREATED:20250319T170620Z
LAST-MODIFIED:20251107T185814Z
UID:10003195-1811410200-1811421000@messymoosestudio.com
SUMMARY:Drop Ins (Morning)
DESCRIPTION:
URL:https://messymoosestudio.com/event/studio-mornings-2/2027-05-27/
LOCATION:The Messy Moose Studio\, 3\, 123 - 2 Avenue W\, Cochrane\, Alberta\, Canada
ATTACH;FMTTYPE=image/png:https://messymoosestudio.com/wp-content/uploads/2024/07/Messy-Moose-SIte-Icon.png
END:VEVENT
BEGIN:VEVENT
DTSTART;TZID=America/Edmonton:20270527T133000
DTEND;TZID=America/Edmonton:20270527T190000
DTSTAMP:20260425T090625
CREATED:20241227T192805Z
LAST-MODIFIED:20250319T164448Z
UID:10007251-1811424600-1811444400@messymoosestudio.com
SUMMARY:Drop Ins (Open Late)
DESCRIPTION:
URL:https://messymoosestudio.com/event/drop-ins-open-late/2027-05-27/
LOCATION:The Messy Moose Studio\, 3\, 123 - 2 Avenue W\, Cochrane\, Alberta\, Canada
END:VEVENT
END:VCALENDAR