BEGIN:VCALENDAR
VERSION:2.0
PRODID:-//The Messy Moose Kids Art Studio - ECPv6.15.20//NONSGML v1.0//EN
CALSCALE:GREGORIAN
METHOD:PUBLISH
X-ORIGINAL-URL:https://messymoosestudio.com
X-WR-CALDESC:Events for The Messy Moose Kids Art Studio
REFRESH-INTERVAL;VALUE=DURATION:PT1H
X-Robots-Tag:noindex
X-PUBLISHED-TTL:PT1H
BEGIN:VTIMEZONE
TZID:America/Edmonton
BEGIN:DAYLIGHT
TZOFFSETFROM:-0700
TZOFFSETTO:-0600
TZNAME:MDT
DTSTART:20260308T090000
END:DAYLIGHT
BEGIN:STANDARD
TZOFFSETFROM:-0600
TZOFFSETTO:-0700
TZNAME:MST
DTSTART:20261101T080000
END:STANDARD
BEGIN:DAYLIGHT
TZOFFSETFROM:-0700
TZOFFSETTO:-0600
TZNAME:MDT
DTSTART:20270314T090000
END:DAYLIGHT
BEGIN:STANDARD
TZOFFSETFROM:-0600
TZOFFSETTO:-0700
TZNAME:MST
DTSTART:20271107T080000
END:STANDARD
BEGIN:DAYLIGHT
TZOFFSETFROM:-0700
TZOFFSETTO:-0600
TZNAME:MDT
DTSTART:20280312T090000
END:DAYLIGHT
BEGIN:STANDARD
TZOFFSETFROM:-0600
TZOFFSETTO:-0700
TZNAME:MST
DTSTART:20281105T080000
END:STANDARD
END:VTIMEZONE
BEGIN:VEVENT
DTSTART;TZID=America/Edmonton:20270706T133000
DTEND;TZID=America/Edmonton:20270706T163000
DTSTAMP:20260425T194404
CREATED:20241227T192033Z
LAST-MODIFIED:20250319T174149Z
UID:10005303-1814880600-1814891400@messymoosestudio.com
SUMMARY:Drop Ins (Afternoon)
DESCRIPTION:
URL:https://messymoosestudio.com/event/drop-ins-afternoon/2027-07-06/
LOCATION:The Messy Moose Studio\, 3\, 123 - 2 Avenue W\, Cochrane\, Alberta\, Canada
ATTACH;FMTTYPE=image/png:https://messymoosestudio.com/wp-content/uploads/2024/07/Messy-Moose-SIte-Icon.png
END:VEVENT
BEGIN:VEVENT
DTSTART;TZID=America/Edmonton:20270707T093000
DTEND;TZID=America/Edmonton:20270707T123000
DTSTAMP:20260425T194404
CREATED:20250319T170620Z
LAST-MODIFIED:20251107T185814Z
UID:10003218-1814952600-1814963400@messymoosestudio.com
SUMMARY:Drop Ins (Morning)
DESCRIPTION:
URL:https://messymoosestudio.com/event/studio-mornings-2/2027-07-07/
LOCATION:The Messy Moose Studio\, 3\, 123 - 2 Avenue W\, Cochrane\, Alberta\, Canada
ATTACH;FMTTYPE=image/png:https://messymoosestudio.com/wp-content/uploads/2024/07/Messy-Moose-SIte-Icon.png
END:VEVENT
BEGIN:VEVENT
DTSTART;TZID=America/Edmonton:20270707T133000
DTEND;TZID=America/Edmonton:20270707T163000
DTSTAMP:20260425T194404
CREATED:20241227T192849Z
LAST-MODIFIED:20250327T154904Z
UID:10007517-1814967000-1814977800@messymoosestudio.com
SUMMARY:Drop Ins (Afternoons)
DESCRIPTION:
URL:https://messymoosestudio.com/event/drop-ins-quiet-sensory-afternoons/2027-07-07/
LOCATION:The Messy Moose Studio\, 3\, 123 - 2 Avenue W\, Cochrane\, Alberta\, Canada
END:VEVENT
BEGIN:VEVENT
DTSTART;TZID=America/Edmonton:20270708T093000
DTEND;TZID=America/Edmonton:20270708T123000
DTSTAMP:20260425T194404
CREATED:20250319T170620Z
LAST-MODIFIED:20251107T185814Z
UID:10003219-1815039000-1815049800@messymoosestudio.com
SUMMARY:Drop Ins (Morning)
DESCRIPTION:
URL:https://messymoosestudio.com/event/studio-mornings-2/2027-07-08/
LOCATION:The Messy Moose Studio\, 3\, 123 - 2 Avenue W\, Cochrane\, Alberta\, Canada
ATTACH;FMTTYPE=image/png:https://messymoosestudio.com/wp-content/uploads/2024/07/Messy-Moose-SIte-Icon.png
END:VEVENT
BEGIN:VEVENT
DTSTART;TZID=America/Edmonton:20270708T133000
DTEND;TZID=America/Edmonton:20270708T190000
DTSTAMP:20260425T194404
CREATED:20241227T192805Z
LAST-MODIFIED:20250319T164448Z
UID:10007257-1815053400-1815073200@messymoosestudio.com
SUMMARY:Drop Ins (Open Late)
DESCRIPTION:
URL:https://messymoosestudio.com/event/drop-ins-open-late/2027-07-08/
LOCATION:The Messy Moose Studio\, 3\, 123 - 2 Avenue W\, Cochrane\, Alberta\, Canada
END:VEVENT
BEGIN:VEVENT
DTSTART;TZID=America/Edmonton:20270709T093000
DTEND;TZID=America/Edmonton:20270709T123000
DTSTAMP:20260425T194404
CREATED:20250319T170620Z
LAST-MODIFIED:20251107T185814Z
UID:10003220-1815125400-1815136200@messymoosestudio.com
SUMMARY:Drop Ins (Morning)
DESCRIPTION:
URL:https://messymoosestudio.com/event/studio-mornings-2/2027-07-09/
LOCATION:The Messy Moose Studio\, 3\, 123 - 2 Avenue W\, Cochrane\, Alberta\, Canada
ATTACH;FMTTYPE=image/png:https://messymoosestudio.com/wp-content/uploads/2024/07/Messy-Moose-SIte-Icon.png
END:VEVENT
BEGIN:VEVENT
DTSTART;TZID=America/Edmonton:20270709T133000
DTEND;TZID=America/Edmonton:20270709T163000
DTSTAMP:20260425T194404
CREATED:20241227T192033Z
LAST-MODIFIED:20250319T174149Z
UID:10005306-1815139800-1815150600@messymoosestudio.com
SUMMARY:Drop Ins (Afternoon)
DESCRIPTION:
URL:https://messymoosestudio.com/event/drop-ins-afternoon/2027-07-09/
LOCATION:The Messy Moose Studio\, 3\, 123 - 2 Avenue W\, Cochrane\, Alberta\, Canada
ATTACH;FMTTYPE=image/png:https://messymoosestudio.com/wp-content/uploads/2024/07/Messy-Moose-SIte-Icon.png
END:VEVENT
BEGIN:VEVENT
DTSTART;TZID=America/Edmonton:20270710T100000
DTEND;TZID=America/Edmonton:20270710T140000
DTSTAMP:20260425T194404
CREATED:20241227T192320Z
LAST-MODIFIED:20241227T193758Z
UID:10006997-1815213600-1815228000@messymoosestudio.com
SUMMARY:Drop Ins (Saturdays)
DESCRIPTION:
URL:https://messymoosestudio.com/event/drop-ins-saturdays/2027-07-10/
LOCATION:The Messy Moose Studio\, 3\, 123 - 2 Avenue W\, Cochrane\, Alberta\, Canada
ATTACH;FMTTYPE=image/png:https://messymoosestudio.com/wp-content/uploads/2024/07/Messy-Moose-SIte-Icon.png
END:VEVENT
BEGIN:VEVENT
DTSTART;VALUE=DATE:20270712
DTEND;VALUE=DATE:20270713
DTSTAMP:20260425T194404
CREATED:20240808T230316Z
LAST-MODIFIED:20240808T230556Z
UID:10002148-1815350400-1815436799@messymoosestudio.com
SUMMARY:Closed
DESCRIPTION:
URL:https://messymoosestudio.com/event/closed/2027-07-12/
LOCATION:The Messy Moose Studio\, 3\, 123 - 2 Avenue W\, Cochrane\, Alberta\, Canada
CATEGORIES:Messy Moose Events
END:VEVENT
BEGIN:VEVENT
DTSTART;TZID=America/Edmonton:20270713T093000
DTEND;TZID=America/Edmonton:20270713T123000
DTSTAMP:20260425T194404
CREATED:20250319T170620Z
LAST-MODIFIED:20251107T185814Z
UID:10003221-1815471000-1815481800@messymoosestudio.com
SUMMARY:Drop Ins (Morning)
DESCRIPTION:
URL:https://messymoosestudio.com/event/studio-mornings-2/2027-07-13/
LOCATION:The Messy Moose Studio\, 3\, 123 - 2 Avenue W\, Cochrane\, Alberta\, Canada
ATTACH;FMTTYPE=image/png:https://messymoosestudio.com/wp-content/uploads/2024/07/Messy-Moose-SIte-Icon.png
END:VEVENT
BEGIN:VEVENT
DTSTART;TZID=America/Edmonton:20270713T133000
DTEND;TZID=America/Edmonton:20270713T163000
DTSTAMP:20260425T194404
CREATED:20241227T192033Z
LAST-MODIFIED:20250319T174149Z
UID:10005307-1815485400-1815496200@messymoosestudio.com
SUMMARY:Drop Ins (Afternoon)
DESCRIPTION:
URL:https://messymoosestudio.com/event/drop-ins-afternoon/2027-07-13/
LOCATION:The Messy Moose Studio\, 3\, 123 - 2 Avenue W\, Cochrane\, Alberta\, Canada
ATTACH;FMTTYPE=image/png:https://messymoosestudio.com/wp-content/uploads/2024/07/Messy-Moose-SIte-Icon.png
END:VEVENT
BEGIN:VEVENT
DTSTART;TZID=America/Edmonton:20270714T093000
DTEND;TZID=America/Edmonton:20270714T123000
DTSTAMP:20260425T194404
CREATED:20250319T170620Z
LAST-MODIFIED:20251107T185814Z
UID:10003222-1815557400-1815568200@messymoosestudio.com
SUMMARY:Drop Ins (Morning)
DESCRIPTION:
URL:https://messymoosestudio.com/event/studio-mornings-2/2027-07-14/
LOCATION:The Messy Moose Studio\, 3\, 123 - 2 Avenue W\, Cochrane\, Alberta\, Canada
ATTACH;FMTTYPE=image/png:https://messymoosestudio.com/wp-content/uploads/2024/07/Messy-Moose-SIte-Icon.png
END:VEVENT
BEGIN:VEVENT
DTSTART;TZID=America/Edmonton:20270714T133000
DTEND;TZID=America/Edmonton:20270714T163000
DTSTAMP:20260425T194404
CREATED:20241227T192849Z
LAST-MODIFIED:20250327T154904Z
UID:10007518-1815571800-1815582600@messymoosestudio.com
SUMMARY:Drop Ins (Afternoons)
DESCRIPTION:
URL:https://messymoosestudio.com/event/drop-ins-quiet-sensory-afternoons/2027-07-14/
LOCATION:The Messy Moose Studio\, 3\, 123 - 2 Avenue W\, Cochrane\, Alberta\, Canada
END:VEVENT
BEGIN:VEVENT
DTSTART;TZID=America/Edmonton:20270715T093000
DTEND;TZID=America/Edmonton:20270715T123000
DTSTAMP:20260425T194404
CREATED:20250319T170620Z
LAST-MODIFIED:20251107T185814Z
UID:10003223-1815643800-1815654600@messymoosestudio.com
SUMMARY:Drop Ins (Morning)
DESCRIPTION:
URL:https://messymoosestudio.com/event/studio-mornings-2/2027-07-15/
LOCATION:The Messy Moose Studio\, 3\, 123 - 2 Avenue W\, Cochrane\, Alberta\, Canada
ATTACH;FMTTYPE=image/png:https://messymoosestudio.com/wp-content/uploads/2024/07/Messy-Moose-SIte-Icon.png
END:VEVENT
BEGIN:VEVENT
DTSTART;TZID=America/Edmonton:20270715T133000
DTEND;TZID=America/Edmonton:20270715T190000
DTSTAMP:20260425T194404
CREATED:20241227T192805Z
LAST-MODIFIED:20250319T164448Z
UID:10007258-1815658200-1815678000@messymoosestudio.com
SUMMARY:Drop Ins (Open Late)
DESCRIPTION:
URL:https://messymoosestudio.com/event/drop-ins-open-late/2027-07-15/
LOCATION:The Messy Moose Studio\, 3\, 123 - 2 Avenue W\, Cochrane\, Alberta\, Canada
END:VEVENT
BEGIN:VEVENT
DTSTART;TZID=America/Edmonton:20270716T093000
DTEND;TZID=America/Edmonton:20270716T123000
DTSTAMP:20260425T194404
CREATED:20250319T170620Z
LAST-MODIFIED:20251107T185814Z
UID:10003224-1815730200-1815741000@messymoosestudio.com
SUMMARY:Drop Ins (Morning)
DESCRIPTION:
URL:https://messymoosestudio.com/event/studio-mornings-2/2027-07-16/
LOCATION:The Messy Moose Studio\, 3\, 123 - 2 Avenue W\, Cochrane\, Alberta\, Canada
ATTACH;FMTTYPE=image/png:https://messymoosestudio.com/wp-content/uploads/2024/07/Messy-Moose-SIte-Icon.png
END:VEVENT
BEGIN:VEVENT
DTSTART;TZID=America/Edmonton:20270716T133000
DTEND;TZID=America/Edmonton:20270716T163000
DTSTAMP:20260425T194404
CREATED:20241227T192033Z
LAST-MODIFIED:20250319T174149Z
UID:10005310-1815744600-1815755400@messymoosestudio.com
SUMMARY:Drop Ins (Afternoon)
DESCRIPTION:
URL:https://messymoosestudio.com/event/drop-ins-afternoon/2027-07-16/
LOCATION:The Messy Moose Studio\, 3\, 123 - 2 Avenue W\, Cochrane\, Alberta\, Canada
ATTACH;FMTTYPE=image/png:https://messymoosestudio.com/wp-content/uploads/2024/07/Messy-Moose-SIte-Icon.png
END:VEVENT
BEGIN:VEVENT
DTSTART;TZID=America/Edmonton:20270717T100000
DTEND;TZID=America/Edmonton:20270717T140000
DTSTAMP:20260425T194404
CREATED:20241227T192320Z
LAST-MODIFIED:20241227T193758Z
UID:10006998-1815818400-1815832800@messymoosestudio.com
SUMMARY:Drop Ins (Saturdays)
DESCRIPTION:
URL:https://messymoosestudio.com/event/drop-ins-saturdays/2027-07-17/
LOCATION:The Messy Moose Studio\, 3\, 123 - 2 Avenue W\, Cochrane\, Alberta\, Canada
ATTACH;FMTTYPE=image/png:https://messymoosestudio.com/wp-content/uploads/2024/07/Messy-Moose-SIte-Icon.png
END:VEVENT
BEGIN:VEVENT
DTSTART;VALUE=DATE:20270719
DTEND;VALUE=DATE:20270720
DTSTAMP:20260425T194404
CREATED:20240808T230316Z
LAST-MODIFIED:20240808T230556Z
UID:10002149-1815955200-1816041599@messymoosestudio.com
SUMMARY:Closed
DESCRIPTION:
URL:https://messymoosestudio.com/event/closed/2027-07-19/
LOCATION:The Messy Moose Studio\, 3\, 123 - 2 Avenue W\, Cochrane\, Alberta\, Canada
CATEGORIES:Messy Moose Events
END:VEVENT
BEGIN:VEVENT
DTSTART;TZID=America/Edmonton:20270720T093000
DTEND;TZID=America/Edmonton:20270720T123000
DTSTAMP:20260425T194404
CREATED:20250319T170620Z
LAST-MODIFIED:20251107T185814Z
UID:10003225-1816075800-1816086600@messymoosestudio.com
SUMMARY:Drop Ins (Morning)
DESCRIPTION:
URL:https://messymoosestudio.com/event/studio-mornings-2/2027-07-20/
LOCATION:The Messy Moose Studio\, 3\, 123 - 2 Avenue W\, Cochrane\, Alberta\, Canada
ATTACH;FMTTYPE=image/png:https://messymoosestudio.com/wp-content/uploads/2024/07/Messy-Moose-SIte-Icon.png
END:VEVENT
BEGIN:VEVENT
DTSTART;TZID=America/Edmonton:20270720T133000
DTEND;TZID=America/Edmonton:20270720T163000
DTSTAMP:20260425T194404
CREATED:20241227T192033Z
LAST-MODIFIED:20250319T174149Z
UID:10005311-1816090200-1816101000@messymoosestudio.com
SUMMARY:Drop Ins (Afternoon)
DESCRIPTION:
URL:https://messymoosestudio.com/event/drop-ins-afternoon/2027-07-20/
LOCATION:The Messy Moose Studio\, 3\, 123 - 2 Avenue W\, Cochrane\, Alberta\, Canada
ATTACH;FMTTYPE=image/png:https://messymoosestudio.com/wp-content/uploads/2024/07/Messy-Moose-SIte-Icon.png
END:VEVENT
BEGIN:VEVENT
DTSTART;TZID=America/Edmonton:20270721T093000
DTEND;TZID=America/Edmonton:20270721T123000
DTSTAMP:20260425T194404
CREATED:20250319T170620Z
LAST-MODIFIED:20251107T185814Z
UID:10003226-1816162200-1816173000@messymoosestudio.com
SUMMARY:Drop Ins (Morning)
DESCRIPTION:
URL:https://messymoosestudio.com/event/studio-mornings-2/2027-07-21/
LOCATION:The Messy Moose Studio\, 3\, 123 - 2 Avenue W\, Cochrane\, Alberta\, Canada
ATTACH;FMTTYPE=image/png:https://messymoosestudio.com/wp-content/uploads/2024/07/Messy-Moose-SIte-Icon.png
END:VEVENT
BEGIN:VEVENT
DTSTART;TZID=America/Edmonton:20270721T133000
DTEND;TZID=America/Edmonton:20270721T163000
DTSTAMP:20260425T194404
CREATED:20241227T192849Z
LAST-MODIFIED:20250327T154904Z
UID:10007519-1816176600-1816187400@messymoosestudio.com
SUMMARY:Drop Ins (Afternoons)
DESCRIPTION:
URL:https://messymoosestudio.com/event/drop-ins-quiet-sensory-afternoons/2027-07-21/
LOCATION:The Messy Moose Studio\, 3\, 123 - 2 Avenue W\, Cochrane\, Alberta\, Canada
END:VEVENT
BEGIN:VEVENT
DTSTART;TZID=America/Edmonton:20270722T093000
DTEND;TZID=America/Edmonton:20270722T123000
DTSTAMP:20260425T194404
CREATED:20250319T170620Z
LAST-MODIFIED:20251107T185814Z
UID:10003227-1816248600-1816259400@messymoosestudio.com
SUMMARY:Drop Ins (Morning)
DESCRIPTION:
URL:https://messymoosestudio.com/event/studio-mornings-2/2027-07-22/
LOCATION:The Messy Moose Studio\, 3\, 123 - 2 Avenue W\, Cochrane\, Alberta\, Canada
ATTACH;FMTTYPE=image/png:https://messymoosestudio.com/wp-content/uploads/2024/07/Messy-Moose-SIte-Icon.png
END:VEVENT
BEGIN:VEVENT
DTSTART;TZID=America/Edmonton:20270722T133000
DTEND;TZID=America/Edmonton:20270722T190000
DTSTAMP:20260425T194404
CREATED:20241227T192805Z
LAST-MODIFIED:20250319T164448Z
UID:10007259-1816263000-1816282800@messymoosestudio.com
SUMMARY:Drop Ins (Open Late)
DESCRIPTION:
URL:https://messymoosestudio.com/event/drop-ins-open-late/2027-07-22/
LOCATION:The Messy Moose Studio\, 3\, 123 - 2 Avenue W\, Cochrane\, Alberta\, Canada
END:VEVENT
BEGIN:VEVENT
DTSTART;TZID=America/Edmonton:20270723T093000
DTEND;TZID=America/Edmonton:20270723T123000
DTSTAMP:20260425T194404
CREATED:20250319T170620Z
LAST-MODIFIED:20251107T185814Z
UID:10003228-1816335000-1816345800@messymoosestudio.com
SUMMARY:Drop Ins (Morning)
DESCRIPTION:
URL:https://messymoosestudio.com/event/studio-mornings-2/2027-07-23/
LOCATION:The Messy Moose Studio\, 3\, 123 - 2 Avenue W\, Cochrane\, Alberta\, Canada
ATTACH;FMTTYPE=image/png:https://messymoosestudio.com/wp-content/uploads/2024/07/Messy-Moose-SIte-Icon.png
END:VEVENT
BEGIN:VEVENT
DTSTART;TZID=America/Edmonton:20270723T133000
DTEND;TZID=America/Edmonton:20270723T163000
DTSTAMP:20260425T194404
CREATED:20241227T192033Z
LAST-MODIFIED:20250319T174149Z
UID:10005314-1816349400-1816360200@messymoosestudio.com
SUMMARY:Drop Ins (Afternoon)
DESCRIPTION:
URL:https://messymoosestudio.com/event/drop-ins-afternoon/2027-07-23/
LOCATION:The Messy Moose Studio\, 3\, 123 - 2 Avenue W\, Cochrane\, Alberta\, Canada
ATTACH;FMTTYPE=image/png:https://messymoosestudio.com/wp-content/uploads/2024/07/Messy-Moose-SIte-Icon.png
END:VEVENT
BEGIN:VEVENT
DTSTART;TZID=America/Edmonton:20270724T100000
DTEND;TZID=America/Edmonton:20270724T140000
DTSTAMP:20260425T194404
CREATED:20241227T192320Z
LAST-MODIFIED:20241227T193758Z
UID:10006999-1816423200-1816437600@messymoosestudio.com
SUMMARY:Drop Ins (Saturdays)
DESCRIPTION:
URL:https://messymoosestudio.com/event/drop-ins-saturdays/2027-07-24/
LOCATION:The Messy Moose Studio\, 3\, 123 - 2 Avenue W\, Cochrane\, Alberta\, Canada
ATTACH;FMTTYPE=image/png:https://messymoosestudio.com/wp-content/uploads/2024/07/Messy-Moose-SIte-Icon.png
END:VEVENT
BEGIN:VEVENT
DTSTART;VALUE=DATE:20270726
DTEND;VALUE=DATE:20270727
DTSTAMP:20260425T194404
CREATED:20240808T230316Z
LAST-MODIFIED:20240808T230556Z
UID:10002150-1816560000-1816646399@messymoosestudio.com
SUMMARY:Closed
DESCRIPTION:
URL:https://messymoosestudio.com/event/closed/2027-07-26/
LOCATION:The Messy Moose Studio\, 3\, 123 - 2 Avenue W\, Cochrane\, Alberta\, Canada
CATEGORIES:Messy Moose Events
END:VEVENT
BEGIN:VEVENT
DTSTART;TZID=America/Edmonton:20270727T093000
DTEND;TZID=America/Edmonton:20270727T123000
DTSTAMP:20260425T194404
CREATED:20250319T170620Z
LAST-MODIFIED:20251107T185814Z
UID:10003229-1816680600-1816691400@messymoosestudio.com
SUMMARY:Drop Ins (Morning)
DESCRIPTION:
URL:https://messymoosestudio.com/event/studio-mornings-2/2027-07-27/
LOCATION:The Messy Moose Studio\, 3\, 123 - 2 Avenue W\, Cochrane\, Alberta\, Canada
ATTACH;FMTTYPE=image/png:https://messymoosestudio.com/wp-content/uploads/2024/07/Messy-Moose-SIte-Icon.png
END:VEVENT
END:VCALENDAR